BEGIN:VCALENDAR
VERSION:2.0
PRODID:-//T+Huis Eindhoven - ECPv6.15.20//NONSGML v1.0//EN
CALSCALE:GREGORIAN
METHOD:PUBLISH
X-WR-CALNAME:T+Huis Eindhoven
X-ORIGINAL-URL:https://t-huis.info
X-WR-CALDESC:Evenementen voor T+Huis Eindhoven
REFRESH-INTERVAL;VALUE=DURATION:PT1H
X-Robots-Tag:noindex
X-PUBLISHED-TTL:PT1H
BEGIN:VTIMEZONE
TZID:Europe/Paris
BEGIN:DAYLIGHT
TZOFFSETFROM:+0100
TZOFFSETTO:+0200
TZNAME:CEST
DTSTART:20250330T010000
END:DAYLIGHT
BEGIN:STANDARD
TZOFFSETFROM:+0200
TZOFFSETTO:+0100
TZNAME:CET
DTSTART:20251026T010000
END:STANDARD
BEGIN:DAYLIGHT
TZOFFSETFROM:+0100
TZOFFSETTO:+0200
TZNAME:CEST
DTSTART:20260329T010000
END:DAYLIGHT
BEGIN:STANDARD
TZOFFSETFROM:+0200
TZOFFSETTO:+0100
TZNAME:CET
DTSTART:20261025T010000
END:STANDARD
BEGIN:DAYLIGHT
TZOFFSETFROM:+0100
TZOFFSETTO:+0200
TZNAME:CEST
DTSTART:20270328T010000
END:DAYLIGHT
BEGIN:STANDARD
TZOFFSETFROM:+0200
TZOFFSETTO:+0100
TZNAME:CET
DTSTART:20271031T010000
END:STANDARD
END:VTIMEZONE
BEGIN:VEVENT
DTSTART;TZID=Europe/Paris:20260316T150000
DTEND;TZID=Europe/Paris:20260316T170000
DTSTAMP:20260420T045231
CREATED:20250820T103003Z
LAST-MODIFIED:20260209T104239Z
UID:10001236-1773673200-1773680400@t-huis.info
SUMMARY:1-1 BEGELEIDING
DESCRIPTION:Taal – rekenen – huiswerk | Groep 3-8 (op inschrijving) | 15:00 – 17:00 @T-HUIS
URL:https://t-huis.info/event/1-1-begeleiding/2026-03-16/
LOCATION:T-HUIS\, Hemelrijken 106
ATTACH;FMTTYPE=image/png:https://t-huis.info/wp-content/uploads/2025/06/THUIS_Iconen9.png
END:VEVENT
BEGIN:VEVENT
DTSTART;TZID=Europe/Paris:20260316T150000
DTEND;TZID=Europe/Paris:20260316T170000
DTSTAMP:20260420T045231
CREATED:20250929T151144Z
LAST-MODIFIED:20260209T104204Z
UID:10004063-1773673200-1773680400@t-huis.info
SUMMARY:DANSLESSEN
DESCRIPTION:Dynamo Jeugdwerk | Tieners 10-14 jaar | 17:00 – 18:00 @gymzaal
URL:https://t-huis.info/event/danslessen/2026-03-16/
LOCATION:Gymzaal Basisschool Fellenoord\, Hemelrijken 310\, Eindhoven\, 5612WS
ATTACH;FMTTYPE=image/png:https://t-huis.info/wp-content/uploads/2025/06/THUIS_Iconen11.png
END:VEVENT
BEGIN:VEVENT
DTSTART;TZID=Europe/Paris:20260316T160000
DTEND;TZID=Europe/Paris:20260316T170000
DTSTAMP:20260420T045231
CREATED:20260209T101926Z
LAST-MODIFIED:20260209T103609Z
UID:10004872-1773676800-1773680400@t-huis.info
SUMMARY:MEIDEN-CLUB
DESCRIPTION:Dynamo Jeugdwerk | Meiden 10-14 | 16:00 – 17:30 @T-HUIS
URL:https://t-huis.info/event/meiden-club-2/2026-03-16/
LOCATION:T-HUIS\, Hemelrijken 106
ATTACH;FMTTYPE=image/png:https://t-huis.info/wp-content/uploads/2025/06/THUIS_Iconen7.png
END:VEVENT
BEGIN:VEVENT
DTSTART;TZID=Europe/Paris:20260316T193000
DTEND;TZID=Europe/Paris:20260316T203000
DTSTAMP:20260420T045231
CREATED:20250910T084107Z
LAST-MODIFIED:20260209T104037Z
UID:10002809-1773689400-1773693000@t-huis.info
SUMMARY:FIT & VROUW
DESCRIPTION:Sporten met Aya | Vrouwen/ meiden 16+ | 19:30 – 20:30 @gymzaal
URL:https://t-huis.info/event/fit-vrouw/2026-03-16/
LOCATION:Gymzaal Basisschool Fellenoord\, Hemelrijken 310\, Eindhoven\, 5612WS
ATTACH;FMTTYPE=image/png:https://t-huis.info/wp-content/uploads/2025/06/THUIS_Iconen11.png
END:VEVENT
BEGIN:VEVENT
DTSTART;TZID=Europe/Paris:20260317T140000
DTEND;TZID=Europe/Paris:20260317T150000
DTSTAMP:20260420T045231
CREATED:20260209T102052Z
LAST-MODIFIED:20260209T145122Z
UID:10006112-1773756000-1773759600@t-huis.info
SUMMARY:LEES-MAATJES
DESCRIPTION:Voorlezen bij gezinnen thuis | Kinderen 4-10 jaar | op afspraak
URL:https://t-huis.info/event/lees-maatjes-2/2026-03-17/
LOCATION:Gymzaal Basisschool Fellenoord\, Hemelrijken 310\, Eindhoven\, 5612WS
ATTACH;FMTTYPE=image/png:https://t-huis.info/wp-content/uploads/2025/06/THUIS_Iconen.png
END:VEVENT
BEGIN:VEVENT
DTSTART;TZID=Europe/Paris:20260317T144500
DTEND;TZID=Europe/Paris:20260317T161500
DTSTAMP:20260420T045231
CREATED:20250820T100940Z
LAST-MODIFIED:20260209T104136Z
UID:10000715-1773758700-1773764100@t-huis.info
SUMMARY:KOOK-CLUB
DESCRIPTION:Samen koken & eten | Kinderen 6+ | 14:45 – 16:15 @T-HUIS
URL:https://t-huis.info/event/kook-club/2026-03-17/
LOCATION:T-HUIS\, Hemelrijken 106
ATTACH;FMTTYPE=image/png:https://t-huis.info/wp-content/uploads/2025/06/THUIS_Iconen3.png
END:VEVENT
BEGIN:VEVENT
DTSTART;TZID=Europe/Paris:20260317T170000
DTEND;TZID=Europe/Paris:20260317T181500
DTSTAMP:20260420T045231
CREATED:20260209T103221Z
LAST-MODIFIED:20260209T103537Z
UID:10005672-1773766800-1773771300@t-huis.info
SUMMARY:BASKETBAL TRAINING
DESCRIPTION:Basketbal met Dori | Kinderen 10-14 jaar | 15.00-16.00u @gymzaal
URL:https://t-huis.info/event/lees-maatjes-3/2026-03-17/
LOCATION:Gymzaal Basisschool Fellenoord\, Hemelrijken 310\, Eindhoven\, 5612WS
ATTACH;FMTTYPE=image/png:https://t-huis.info/wp-content/uploads/2025/06/THUIS_Iconen.png
END:VEVENT
BEGIN:VEVENT
DTSTART;TZID=Europe/Paris:20260317T190000
DTEND;TZID=Europe/Paris:20260317T203000
DTSTAMP:20260420T045231
CREATED:20250910T090119Z
LAST-MODIFIED:20260209T103956Z
UID:10003270-1773774000-1773779400@t-huis.info
SUMMARY:YOGA
DESCRIPTION:Yoga met Denise | Volwassenen | 19:00 – 20:30 @T-HUIS
URL:https://t-huis.info/event/vrije-inloop-3-2/2026-03-17/
LOCATION:T-HUIS\, Hemelrijken 106
ATTACH;FMTTYPE=image/png:https://t-huis.info/wp-content/uploads/2025/06/THUIS_Iconen7.png
END:VEVENT
BEGIN:VEVENT
DTSTART;TZID=Europe/Paris:20260318T123000
DTEND;TZID=Europe/Paris:20260318T134500
DTSTAMP:20260420T045231
CREATED:20250820T094624Z
LAST-MODIFIED:20260209T104526Z
UID:10001497-1773837000-1773841500@t-huis.info
SUMMARY:CLUB VAN GENT
DESCRIPTION:Voetballen met Dori | Groep 5-8 | 12:30 – 13:45 @van Gentplein
URL:https://t-huis.info/event/club-van-gent/2026-03-18/
LOCATION:T-HUIS\, Hemelrijken 106
ATTACH;FMTTYPE=image/png:https://t-huis.info/wp-content/uploads/2025/06/THUIS_Iconen15.png
END:VEVENT
BEGIN:VEVENT
DTSTART;TZID=Europe/Paris:20260318T123000
DTEND;TZID=Europe/Paris:20260318T140000
DTSTAMP:20260420T045231
CREATED:20250820T104601Z
LAST-MODIFIED:20260209T104109Z
UID:10002278-1773837000-1773842400@t-huis.info
SUMMARY:VRIJE MIDDAG
DESCRIPTION:Spelletjes & kletsen | Kinderen 6+ | 12:30 – 14:30 @T-HUIS
URL:https://t-huis.info/event/vrije-inloop-2/2026-03-18/
ATTACH;FMTTYPE=image/png:https://t-huis.info/wp-content/uploads/2025/06/THUIS_Iconen7.png
END:VEVENT
BEGIN:VEVENT
DTSTART;TZID=Europe/Paris:20260318T133000
DTEND;TZID=Europe/Paris:20260318T150000
DTSTAMP:20260420T045231
CREATED:20250901T113728Z
LAST-MODIFIED:20260303T142611Z
UID:10006388-1773840600-1773846000@t-huis.info
SUMMARY:CREA-FEEST
DESCRIPTION:Ouder + kind activiteiten | Ouders en kinderen (0-6) | 13:30 – 15:00 @T-HUIS
URL:https://t-huis.info/event/creafeest-3/2026-03-18/
ATTACH;FMTTYPE=image/png:https://t-huis.info/wp-content/uploads/2025/06/THUIS_Iconen7.png
END:VEVENT
BEGIN:VEVENT
DTSTART;TZID=Europe/Paris:20260318T150000
DTEND;TZID=Europe/Paris:20260318T160000
DTSTAMP:20260420T045231
CREATED:20250910T085819Z
LAST-MODIFIED:20260209T145008Z
UID:10003532-1773846000-1773849600@t-huis.info
SUMMARY:ZAALVOETBAL
DESCRIPTION:Zaalvoetbal met Dori | Kinderen 8+ | 15:00 – 16:15 @gymzaal
URL:https://t-huis.info/event/zaalvoetbal/2026-03-18/
LOCATION:Gymzaal Basisschool Fellenoord\, Hemelrijken 310\, Eindhoven\, 5612WS
ATTACH;FMTTYPE=image/png:https://t-huis.info/wp-content/uploads/2025/06/THUIS_Iconen7.png
END:VEVENT
BEGIN:VEVENT
DTSTART;TZID=Europe/Paris:20260319T090000
DTEND;TZID=Europe/Paris:20260319T103000
DTSTAMP:20260420T045231
CREATED:20250820T110410Z
LAST-MODIFIED:20260209T104439Z
UID:10000976-1773910800-1773916200@t-huis.info
SUMMARY:& KLETS
DESCRIPTION:Ontmoeten & creatief | Volwassenen (kids welkom) | 09:00 – 10:30 @T-HUIS
URL:https://t-huis.info/event/klets/2026-03-19/
ATTACH;FMTTYPE=image/png:https://t-huis.info/wp-content/uploads/2025/06/THUIS_Iconen5.png
END:VEVENT
BEGIN:VEVENT
DTSTART;TZID=Europe/Paris:20260319T144500
DTEND;TZID=Europe/Paris:20260319T154500
DTSTAMP:20260420T045231
CREATED:20250820T092808Z
LAST-MODIFIED:20260209T104341Z
UID:10001758-1773931500-1773935100@t-huis.info
SUMMARY:HUISWERK-CLUB
DESCRIPTION:Huiswerkbegeleiding | Groep 5-8 (op inschrijving) | 14:45 – 15:45 @T-HUIS
URL:https://t-huis.info/event/huiswerk-club/2026-03-19/
LOCATION:T-HUIS\, Hemelrijken 106
ATTACH;FMTTYPE=image/png:https://t-huis.info/wp-content/uploads/2025/06/THUIS_Iconen9.png
END:VEVENT
BEGIN:VEVENT
DTSTART;TZID=Europe/Paris:20260320T093000
DTEND;TZID=Europe/Paris:20260320T110000
DTSTAMP:20260420T045231
CREATED:20250711T124740Z
LAST-MODIFIED:20260209T104619Z
UID:10000130-1773999000-1774004400@t-huis.info
SUMMARY:THEE & TAAL
DESCRIPTION:Nederlands oefenen & ontmoeten | Volwassenen (kinderen welkom) | 09:30 – 11:00 @T-HUIS
URL:https://t-huis.info/event/thee-taal-2/2026-03-20/
LOCATION:T-HUIS\, Hemelrijken 106
ATTACH;FMTTYPE=image/png:https://t-huis.info/wp-content/uploads/2025/06/THUIS_Iconen5.png
END:VEVENT
END:VCALENDAR