BEGIN:VCALENDAR
VERSION:2.0
PRODID:-//T+Huis Eindhoven - ECPv6.15.20//NONSGML v1.0//EN
CALSCALE:GREGORIAN
METHOD:PUBLISH
X-WR-CALNAME:T+Huis Eindhoven
X-ORIGINAL-URL:https://t-huis.info
X-WR-CALDESC:Evenementen voor T+Huis Eindhoven
REFRESH-INTERVAL;VALUE=DURATION:PT1H
X-Robots-Tag:noindex
X-PUBLISHED-TTL:PT1H
BEGIN:VTIMEZONE
TZID:Europe/Paris
BEGIN:DAYLIGHT
TZOFFSETFROM:+0100
TZOFFSETTO:+0200
TZNAME:CEST
DTSTART:20250330T010000
END:DAYLIGHT
BEGIN:STANDARD
TZOFFSETFROM:+0200
TZOFFSETTO:+0100
TZNAME:CET
DTSTART:20251026T010000
END:STANDARD
BEGIN:DAYLIGHT
TZOFFSETFROM:+0100
TZOFFSETTO:+0200
TZNAME:CEST
DTSTART:20260329T010000
END:DAYLIGHT
BEGIN:STANDARD
TZOFFSETFROM:+0200
TZOFFSETTO:+0100
TZNAME:CET
DTSTART:20261025T010000
END:STANDARD
BEGIN:DAYLIGHT
TZOFFSETFROM:+0100
TZOFFSETTO:+0200
TZNAME:CEST
DTSTART:20270328T010000
END:DAYLIGHT
BEGIN:STANDARD
TZOFFSETFROM:+0200
TZOFFSETTO:+0100
TZNAME:CET
DTSTART:20271031T010000
END:STANDARD
END:VTIMEZONE
BEGIN:VEVENT
DTSTART;TZID=Europe/Paris:20260309T150000
DTEND;TZID=Europe/Paris:20260309T170000
DTSTAMP:20260420T135510
CREATED:20250820T103003Z
LAST-MODIFIED:20260209T104239Z
UID:10001235-1773068400-1773075600@t-huis.info
SUMMARY:1-1 BEGELEIDING
DESCRIPTION:Taal – rekenen – huiswerk | Groep 3-8 (op inschrijving) | 15:00 – 17:00 @T-HUIS
URL:https://t-huis.info/event/1-1-begeleiding/2026-03-09/
LOCATION:T-HUIS\, Hemelrijken 106
ATTACH;FMTTYPE=image/png:https://t-huis.info/wp-content/uploads/2025/06/THUIS_Iconen9.png
END:VEVENT
BEGIN:VEVENT
DTSTART;TZID=Europe/Paris:20260309T150000
DTEND;TZID=Europe/Paris:20260309T170000
DTSTAMP:20260420T135510
CREATED:20250929T151144Z
LAST-MODIFIED:20260209T104204Z
UID:10004062-1773068400-1773075600@t-huis.info
SUMMARY:DANSLESSEN
DESCRIPTION:Dynamo Jeugdwerk | Tieners 10-14 jaar | 17:00 – 18:00 @gymzaal
URL:https://t-huis.info/event/danslessen/2026-03-09/
LOCATION:Gymzaal Basisschool Fellenoord\, Hemelrijken 310\, Eindhoven\, 5612WS
ATTACH;FMTTYPE=image/png:https://t-huis.info/wp-content/uploads/2025/06/THUIS_Iconen11.png
END:VEVENT
BEGIN:VEVENT
DTSTART;TZID=Europe/Paris:20260309T160000
DTEND;TZID=Europe/Paris:20260309T170000
DTSTAMP:20260420T135510
CREATED:20260209T101926Z
LAST-MODIFIED:20260209T103609Z
UID:10004871-1773072000-1773075600@t-huis.info
SUMMARY:MEIDEN-CLUB
DESCRIPTION:Dynamo Jeugdwerk | Meiden 10-14 | 16:00 – 17:30 @T-HUIS
URL:https://t-huis.info/event/meiden-club-2/2026-03-09/
LOCATION:T-HUIS\, Hemelrijken 106
ATTACH;FMTTYPE=image/png:https://t-huis.info/wp-content/uploads/2025/06/THUIS_Iconen7.png
END:VEVENT
BEGIN:VEVENT
DTSTART;TZID=Europe/Paris:20260309T193000
DTEND;TZID=Europe/Paris:20260309T203000
DTSTAMP:20260420T135510
CREATED:20250910T084107Z
LAST-MODIFIED:20260209T104037Z
UID:10002808-1773084600-1773088200@t-huis.info
SUMMARY:FIT & VROUW
DESCRIPTION:Sporten met Aya | Vrouwen/ meiden 16+ | 19:30 – 20:30 @gymzaal
URL:https://t-huis.info/event/fit-vrouw/2026-03-09/
LOCATION:Gymzaal Basisschool Fellenoord\, Hemelrijken 310\, Eindhoven\, 5612WS
ATTACH;FMTTYPE=image/png:https://t-huis.info/wp-content/uploads/2025/06/THUIS_Iconen11.png
END:VEVENT
BEGIN:VEVENT
DTSTART;TZID=Europe/Paris:20260310T140000
DTEND;TZID=Europe/Paris:20260310T150000
DTSTAMP:20260420T135510
CREATED:20260209T102052Z
LAST-MODIFIED:20260209T145122Z
UID:10006111-1773151200-1773154800@t-huis.info
SUMMARY:LEES-MAATJES
DESCRIPTION:Voorlezen bij gezinnen thuis | Kinderen 4-10 jaar | op afspraak
URL:https://t-huis.info/event/lees-maatjes-2/2026-03-10/
LOCATION:Gymzaal Basisschool Fellenoord\, Hemelrijken 310\, Eindhoven\, 5612WS
ATTACH;FMTTYPE=image/png:https://t-huis.info/wp-content/uploads/2025/06/THUIS_Iconen.png
END:VEVENT
BEGIN:VEVENT
DTSTART;TZID=Europe/Paris:20260310T144500
DTEND;TZID=Europe/Paris:20260310T161500
DTSTAMP:20260420T135510
CREATED:20250820T100940Z
LAST-MODIFIED:20260209T104136Z
UID:10000714-1773153900-1773159300@t-huis.info
SUMMARY:KOOK-CLUB
DESCRIPTION:Samen koken & eten | Kinderen 6+ | 14:45 – 16:15 @T-HUIS
URL:https://t-huis.info/event/kook-club/2026-03-10/
LOCATION:T-HUIS\, Hemelrijken 106
ATTACH;FMTTYPE=image/png:https://t-huis.info/wp-content/uploads/2025/06/THUIS_Iconen3.png
END:VEVENT
BEGIN:VEVENT
DTSTART;TZID=Europe/Paris:20260310T170000
DTEND;TZID=Europe/Paris:20260310T181500
DTSTAMP:20260420T135510
CREATED:20260209T103221Z
LAST-MODIFIED:20260209T103537Z
UID:10005671-1773162000-1773166500@t-huis.info
SUMMARY:BASKETBAL TRAINING
DESCRIPTION:Basketbal met Dori | Kinderen 10-14 jaar | 15.00-16.00u @gymzaal
URL:https://t-huis.info/event/lees-maatjes-3/2026-03-10/
LOCATION:Gymzaal Basisschool Fellenoord\, Hemelrijken 310\, Eindhoven\, 5612WS
ATTACH;FMTTYPE=image/png:https://t-huis.info/wp-content/uploads/2025/06/THUIS_Iconen.png
END:VEVENT
BEGIN:VEVENT
DTSTART;TZID=Europe/Paris:20260310T190000
DTEND;TZID=Europe/Paris:20260310T203000
DTSTAMP:20260420T135510
CREATED:20250910T090119Z
LAST-MODIFIED:20260209T103956Z
UID:10003269-1773169200-1773174600@t-huis.info
SUMMARY:YOGA
DESCRIPTION:Yoga met Denise | Volwassenen | 19:00 – 20:30 @T-HUIS
URL:https://t-huis.info/event/vrije-inloop-3-2/2026-03-10/
LOCATION:T-HUIS\, Hemelrijken 106
ATTACH;FMTTYPE=image/png:https://t-huis.info/wp-content/uploads/2025/06/THUIS_Iconen7.png
END:VEVENT
BEGIN:VEVENT
DTSTART;TZID=Europe/Paris:20260311T123000
DTEND;TZID=Europe/Paris:20260311T134500
DTSTAMP:20260420T135510
CREATED:20250820T094624Z
LAST-MODIFIED:20260209T104526Z
UID:10001496-1773232200-1773236700@t-huis.info
SUMMARY:CLUB VAN GENT
DESCRIPTION:Voetballen met Dori | Groep 5-8 | 12:30 – 13:45 @van Gentplein
URL:https://t-huis.info/event/club-van-gent/2026-03-11/
LOCATION:T-HUIS\, Hemelrijken 106
ATTACH;FMTTYPE=image/png:https://t-huis.info/wp-content/uploads/2025/06/THUIS_Iconen15.png
END:VEVENT
BEGIN:VEVENT
DTSTART;TZID=Europe/Paris:20260311T123000
DTEND;TZID=Europe/Paris:20260311T140000
DTSTAMP:20260420T135510
CREATED:20250820T104601Z
LAST-MODIFIED:20260209T104109Z
UID:10002277-1773232200-1773237600@t-huis.info
SUMMARY:VRIJE MIDDAG
DESCRIPTION:Spelletjes & kletsen | Kinderen 6+ | 12:30 – 14:30 @T-HUIS
URL:https://t-huis.info/event/vrije-inloop-2/2026-03-11/
ATTACH;FMTTYPE=image/png:https://t-huis.info/wp-content/uploads/2025/06/THUIS_Iconen7.png
END:VEVENT
BEGIN:VEVENT
DTSTART;TZID=Europe/Paris:20260311T133000
DTEND;TZID=Europe/Paris:20260311T150000
DTSTAMP:20260420T135510
CREATED:20250901T113728Z
LAST-MODIFIED:20260303T142611Z
UID:10000634-1773235800-1773241200@t-huis.info
SUMMARY:CREA-FEEST
DESCRIPTION:Ouder + kind activiteiten | Ouders en kinderen (0-6) | 13:30 – 15:00 @T-HUIS
URL:https://t-huis.info/event/creafeest-3/2026-03-11/
ATTACH;FMTTYPE=image/png:https://t-huis.info/wp-content/uploads/2025/06/THUIS_Iconen7.png
END:VEVENT
BEGIN:VEVENT
DTSTART;TZID=Europe/Paris:20260311T150000
DTEND;TZID=Europe/Paris:20260311T160000
DTSTAMP:20260420T135510
CREATED:20250910T085819Z
LAST-MODIFIED:20260209T145008Z
UID:10003531-1773241200-1773244800@t-huis.info
SUMMARY:ZAALVOETBAL
DESCRIPTION:Zaalvoetbal met Dori | Kinderen 8+ | 15:00 – 16:15 @gymzaal
URL:https://t-huis.info/event/zaalvoetbal/2026-03-11/
LOCATION:Gymzaal Basisschool Fellenoord\, Hemelrijken 310\, Eindhoven\, 5612WS
ATTACH;FMTTYPE=image/png:https://t-huis.info/wp-content/uploads/2025/06/THUIS_Iconen7.png
END:VEVENT
BEGIN:VEVENT
DTSTART;TZID=Europe/Paris:20260312T090000
DTEND;TZID=Europe/Paris:20260312T103000
DTSTAMP:20260420T135510
CREATED:20250820T110410Z
LAST-MODIFIED:20260209T104439Z
UID:10000975-1773306000-1773311400@t-huis.info
SUMMARY:& KLETS
DESCRIPTION:Ontmoeten & creatief | Volwassenen (kids welkom) | 09:00 – 10:30 @T-HUIS
URL:https://t-huis.info/event/klets/2026-03-12/
ATTACH;FMTTYPE=image/png:https://t-huis.info/wp-content/uploads/2025/06/THUIS_Iconen5.png
END:VEVENT
BEGIN:VEVENT
DTSTART;TZID=Europe/Paris:20260312T144500
DTEND;TZID=Europe/Paris:20260312T154500
DTSTAMP:20260420T135510
CREATED:20250820T092808Z
LAST-MODIFIED:20260209T104341Z
UID:10001757-1773326700-1773330300@t-huis.info
SUMMARY:HUISWERK-CLUB
DESCRIPTION:Huiswerkbegeleiding | Groep 5-8 (op inschrijving) | 14:45 – 15:45 @T-HUIS
URL:https://t-huis.info/event/huiswerk-club/2026-03-12/
LOCATION:T-HUIS\, Hemelrijken 106
ATTACH;FMTTYPE=image/png:https://t-huis.info/wp-content/uploads/2025/06/THUIS_Iconen9.png
END:VEVENT
BEGIN:VEVENT
DTSTART;TZID=Europe/Paris:20260313T093000
DTEND;TZID=Europe/Paris:20260313T110000
DTSTAMP:20260420T135510
CREATED:20250711T124740Z
LAST-MODIFIED:20260209T104619Z
UID:10000129-1773394200-1773399600@t-huis.info
SUMMARY:THEE & TAAL
DESCRIPTION:Nederlands oefenen & ontmoeten | Volwassenen (kinderen welkom) | 09:30 – 11:00 @T-HUIS
URL:https://t-huis.info/event/thee-taal-2/2026-03-13/
LOCATION:T-HUIS\, Hemelrijken 106
ATTACH;FMTTYPE=image/png:https://t-huis.info/wp-content/uploads/2025/06/THUIS_Iconen5.png
END:VEVENT
END:VCALENDAR