BEGIN:VCALENDAR
VERSION:2.0
PRODID:-//T+Huis Eindhoven - ECPv6.15.20//NONSGML v1.0//EN
CALSCALE:GREGORIAN
METHOD:PUBLISH
X-ORIGINAL-URL:https://t-huis.info
X-WR-CALDESC:Evenementen voor T+Huis Eindhoven
REFRESH-INTERVAL;VALUE=DURATION:PT1H
X-Robots-Tag:noindex
X-PUBLISHED-TTL:PT1H
BEGIN:VTIMEZONE
TZID:Europe/Paris
BEGIN:DAYLIGHT
TZOFFSETFROM:+0100
TZOFFSETTO:+0200
TZNAME:CEST
DTSTART:20240331T010000
END:DAYLIGHT
BEGIN:STANDARD
TZOFFSETFROM:+0200
TZOFFSETTO:+0100
TZNAME:CET
DTSTART:20241027T010000
END:STANDARD
BEGIN:DAYLIGHT
TZOFFSETFROM:+0100
TZOFFSETTO:+0200
TZNAME:CEST
DTSTART:20250330T010000
END:DAYLIGHT
BEGIN:STANDARD
TZOFFSETFROM:+0200
TZOFFSETTO:+0100
TZNAME:CET
DTSTART:20251026T010000
END:STANDARD
BEGIN:DAYLIGHT
TZOFFSETFROM:+0100
TZOFFSETTO:+0200
TZNAME:CEST
DTSTART:20260329T010000
END:DAYLIGHT
BEGIN:STANDARD
TZOFFSETFROM:+0200
TZOFFSETTO:+0100
TZNAME:CET
DTSTART:20261025T010000
END:STANDARD
END:VTIMEZONE
BEGIN:VEVENT
DTSTART;TZID=Europe/Paris:20250901T150000
DTEND;TZID=Europe/Paris:20250901T160000
DTSTAMP:20260424T170758
CREATED:20250820T104652Z
LAST-MODIFIED:20250909T141835Z
UID:10000076-1756738800-1756742400@t-huis.info
SUMMARY:VRIJE INLOOP
DESCRIPTION:Spelletjes & kletsen | Kinderen 6+ | 15:00 – 16:00
URL:https://t-huis.info/event/vrije-inloop-3/2025-09-01/
ATTACH;FMTTYPE=image/png:https://t-huis.info/wp-content/uploads/2025/06/THUIS_Iconen11.png
END:VEVENT
BEGIN:VEVENT
DTSTART;TZID=Europe/Paris:20250901T150000
DTEND;TZID=Europe/Paris:20250901T170000
DTSTAMP:20260424T170758
CREATED:20250820T103003Z
LAST-MODIFIED:20260209T104239Z
UID:10000067-1756738800-1756746000@t-huis.info
SUMMARY:1-1 BEGELEIDING
DESCRIPTION:Taal – rekenen – huiswerk | Groep 3-8 (op inschrijving) | 15:00 – 17:00 @T-HUIS
URL:https://t-huis.info/event/1-1-begeleiding/2025-09-01/
LOCATION:T-HUIS\, Hemelrijken 106
ATTACH;FMTTYPE=image/png:https://t-huis.info/wp-content/uploads/2025/06/THUIS_Iconen9.png
END:VEVENT
BEGIN:VEVENT
DTSTART;TZID=Europe/Paris:20250901T150000
DTEND;TZID=Europe/Paris:20250901T170000
DTSTAMP:20260424T170758
CREATED:20250929T151144Z
LAST-MODIFIED:20260209T104204Z
UID:10004035-1756738800-1756746000@t-huis.info
SUMMARY:DANSLESSEN
DESCRIPTION:Dynamo Jeugdwerk | Tieners 10-14 jaar | 17:00 – 18:00 @gymzaal
URL:https://t-huis.info/event/danslessen/2025-09-01/
LOCATION:Gymzaal Basisschool Fellenoord\, Hemelrijken 310\, Eindhoven\, 5612WS
ATTACH;FMTTYPE=image/png:https://t-huis.info/wp-content/uploads/2025/06/THUIS_Iconen11.png
END:VEVENT
BEGIN:VEVENT
DTSTART;TZID=Europe/Paris:20250902T144500
DTEND;TZID=Europe/Paris:20250902T161500
DTSTAMP:20260424T170758
CREATED:20250820T100940Z
LAST-MODIFIED:20260209T104136Z
UID:10000056-1756824300-1756829700@t-huis.info
SUMMARY:KOOK-CLUB
DESCRIPTION:Samen koken & eten | Kinderen 6+ | 14:45 – 16:15 @T-HUIS
URL:https://t-huis.info/event/kook-club/2025-09-02/
LOCATION:T-HUIS\, Hemelrijken 106
ATTACH;FMTTYPE=image/png:https://t-huis.info/wp-content/uploads/2025/06/THUIS_Iconen3.png
END:VEVENT
BEGIN:VEVENT
DTSTART;TZID=Europe/Paris:20250903T123000
DTEND;TZID=Europe/Paris:20250903T134500
DTSTAMP:20260424T170758
CREATED:20250820T094624Z
LAST-MODIFIED:20260209T104526Z
UID:10001469-1756902600-1756907100@t-huis.info
SUMMARY:CLUB VAN GENT
DESCRIPTION:Voetballen met Dori | Groep 5-8 | 12:30 – 13:45 @van Gentplein
URL:https://t-huis.info/event/club-van-gent/2025-09-03/
LOCATION:T-HUIS\, Hemelrijken 106
ATTACH;FMTTYPE=image/png:https://t-huis.info/wp-content/uploads/2025/06/THUIS_Iconen15.png
END:VEVENT
BEGIN:VEVENT
DTSTART;TZID=Europe/Paris:20250903T123000
DTEND;TZID=Europe/Paris:20250903T140000
DTSTAMP:20260424T170758
CREATED:20250820T104601Z
LAST-MODIFIED:20260209T104109Z
UID:10000075-1756902600-1756908000@t-huis.info
SUMMARY:VRIJE MIDDAG
DESCRIPTION:Spelletjes & kletsen | Kinderen 6+ | 12:30 – 14:30 @T-HUIS
URL:https://t-huis.info/event/vrije-inloop-2/2025-09-03/
ATTACH;FMTTYPE=image/png:https://t-huis.info/wp-content/uploads/2025/06/THUIS_Iconen7.png
END:VEVENT
BEGIN:VEVENT
DTSTART;TZID=Europe/Paris:20250904T090000
DTEND;TZID=Europe/Paris:20250904T103000
DTSTAMP:20260424T170758
CREATED:20250820T110410Z
LAST-MODIFIED:20260209T104439Z
UID:10000948-1756976400-1756981800@t-huis.info
SUMMARY:& KLETS
DESCRIPTION:Ontmoeten & creatief | Volwassenen (kids welkom) | 09:00 – 10:30 @T-HUIS
URL:https://t-huis.info/event/klets/2025-09-04/
ATTACH;FMTTYPE=image/png:https://t-huis.info/wp-content/uploads/2025/06/THUIS_Iconen5.png
END:VEVENT
BEGIN:VEVENT
DTSTART;TZID=Europe/Paris:20250904T144500
DTEND;TZID=Europe/Paris:20250904T154500
DTSTAMP:20260424T170758
CREATED:20250820T092808Z
LAST-MODIFIED:20260209T104341Z
UID:10001730-1756997100-1757000700@t-huis.info
SUMMARY:HUISWERK-CLUB
DESCRIPTION:Huiswerkbegeleiding | Groep 5-8 (op inschrijving) | 14:45 – 15:45 @T-HUIS
URL:https://t-huis.info/event/huiswerk-club/2025-09-04/
LOCATION:T-HUIS\, Hemelrijken 106
ATTACH;FMTTYPE=image/png:https://t-huis.info/wp-content/uploads/2025/06/THUIS_Iconen9.png
END:VEVENT
BEGIN:VEVENT
DTSTART;TZID=Europe/Paris:20250904T144500
DTEND;TZID=Europe/Paris:20250904T154500
DTSTAMP:20260424T170758
CREATED:20250929T150506Z
LAST-MODIFIED:20251007T180209Z
UID:10003770-1756997100-1757000700@t-huis.info
SUMMARY:MEIDEN-CLUB
DESCRIPTION:Dynamo Jeugdwerk | Meiden 10-14 | 16:00 – 17:30
URL:https://t-huis.info/event/meiden-club/2025-09-04/
LOCATION:T-HUIS\, Hemelrijken 106
ATTACH;FMTTYPE=image/png:https://t-huis.info/wp-content/uploads/2025/06/THUIS_Iconen7.png
END:VEVENT
BEGIN:VEVENT
DTSTART;TZID=Europe/Paris:20250905T093000
DTEND;TZID=Europe/Paris:20250905T110000
DTSTAMP:20260424T170758
CREATED:20250711T124740Z
LAST-MODIFIED:20260209T104619Z
UID:10000102-1757064600-1757070000@t-huis.info
SUMMARY:THEE & TAAL
DESCRIPTION:Nederlands oefenen & ontmoeten | Volwassenen (kinderen welkom) | 09:30 – 11:00 @T-HUIS
URL:https://t-huis.info/event/thee-taal-2/2025-09-05/
LOCATION:T-HUIS\, Hemelrijken 106
ATTACH;FMTTYPE=image/png:https://t-huis.info/wp-content/uploads/2025/06/THUIS_Iconen5.png
END:VEVENT
END:VCALENDAR