BEGIN:VCALENDAR
VERSION:2.0
PRODID:-//T+Huis Eindhoven - ECPv6.15.20//NONSGML v1.0//EN
CALSCALE:GREGORIAN
METHOD:PUBLISH
X-WR-CALNAME:T+Huis Eindhoven
X-ORIGINAL-URL:https://t-huis.info
X-WR-CALDESC:Evenementen voor T+Huis Eindhoven
REFRESH-INTERVAL;VALUE=DURATION:PT1H
X-Robots-Tag:noindex
X-PUBLISHED-TTL:PT1H
BEGIN:VTIMEZONE
TZID:Europe/Paris
BEGIN:DAYLIGHT
TZOFFSETFROM:+0100
TZOFFSETTO:+0200
TZNAME:CEST
DTSTART:20250330T010000
END:DAYLIGHT
BEGIN:STANDARD
TZOFFSETFROM:+0200
TZOFFSETTO:+0100
TZNAME:CET
DTSTART:20251026T010000
END:STANDARD
BEGIN:DAYLIGHT
TZOFFSETFROM:+0100
TZOFFSETTO:+0200
TZNAME:CEST
DTSTART:20260329T010000
END:DAYLIGHT
BEGIN:STANDARD
TZOFFSETFROM:+0200
TZOFFSETTO:+0100
TZNAME:CET
DTSTART:20261025T010000
END:STANDARD
BEGIN:DAYLIGHT
TZOFFSETFROM:+0100
TZOFFSETTO:+0200
TZNAME:CEST
DTSTART:20270328T010000
END:DAYLIGHT
BEGIN:STANDARD
TZOFFSETFROM:+0200
TZOFFSETTO:+0100
TZNAME:CET
DTSTART:20271031T010000
END:STANDARD
END:VTIMEZONE
BEGIN:VEVENT
DTSTART;TZID=Europe/Paris:20260501T093000
DTEND;TZID=Europe/Paris:20260501T110000
DTSTAMP:20260425T203949
CREATED:20250711T124740Z
LAST-MODIFIED:20260209T104619Z
UID:10000136-1777627800-1777633200@t-huis.info
SUMMARY:THEE & TAAL
DESCRIPTION:Nederlands oefenen & ontmoeten | Volwassenen (kinderen welkom) | 09:30 – 11:00 @T-HUIS
URL:https://t-huis.info/event/thee-taal-2/2026-05-01/
LOCATION:T-HUIS\, Hemelrijken 106
ATTACH;FMTTYPE=image/png:https://t-huis.info/wp-content/uploads/2025/06/THUIS_Iconen5.png
END:VEVENT
BEGIN:VEVENT
DTSTART;TZID=Europe/Paris:20260508T093000
DTEND;TZID=Europe/Paris:20260508T110000
DTSTAMP:20260425T203949
CREATED:20250711T124740Z
LAST-MODIFIED:20260209T104619Z
UID:10000137-1778232600-1778238000@t-huis.info
SUMMARY:THEE & TAAL
DESCRIPTION:Nederlands oefenen & ontmoeten | Volwassenen (kinderen welkom) | 09:30 – 11:00 @T-HUIS
URL:https://t-huis.info/event/thee-taal-2/2026-05-08/
LOCATION:T-HUIS\, Hemelrijken 106
ATTACH;FMTTYPE=image/png:https://t-huis.info/wp-content/uploads/2025/06/THUIS_Iconen5.png
END:VEVENT
BEGIN:VEVENT
DTSTART;TZID=Europe/Paris:20260515T093000
DTEND;TZID=Europe/Paris:20260515T110000
DTSTAMP:20260425T203949
CREATED:20250711T124740Z
LAST-MODIFIED:20260209T104619Z
UID:10000138-1778837400-1778842800@t-huis.info
SUMMARY:THEE & TAAL
DESCRIPTION:Nederlands oefenen & ontmoeten | Volwassenen (kinderen welkom) | 09:30 – 11:00 @T-HUIS
URL:https://t-huis.info/event/thee-taal-2/2026-05-15/
LOCATION:T-HUIS\, Hemelrijken 106
ATTACH;FMTTYPE=image/png:https://t-huis.info/wp-content/uploads/2025/06/THUIS_Iconen5.png
END:VEVENT
BEGIN:VEVENT
DTSTART;TZID=Europe/Paris:20260522T093000
DTEND;TZID=Europe/Paris:20260522T110000
DTSTAMP:20260425T203949
CREATED:20250711T124740Z
LAST-MODIFIED:20260209T104619Z
UID:10000139-1779442200-1779447600@t-huis.info
SUMMARY:THEE & TAAL
DESCRIPTION:Nederlands oefenen & ontmoeten | Volwassenen (kinderen welkom) | 09:30 – 11:00 @T-HUIS
URL:https://t-huis.info/event/thee-taal-2/2026-05-22/
LOCATION:T-HUIS\, Hemelrijken 106
ATTACH;FMTTYPE=image/png:https://t-huis.info/wp-content/uploads/2025/06/THUIS_Iconen5.png
END:VEVENT
BEGIN:VEVENT
DTSTART;TZID=Europe/Paris:20260529T093000
DTEND;TZID=Europe/Paris:20260529T110000
DTSTAMP:20260425T203949
CREATED:20250711T124740Z
LAST-MODIFIED:20260209T104619Z
UID:10000140-1780047000-1780052400@t-huis.info
SUMMARY:THEE & TAAL
DESCRIPTION:Nederlands oefenen & ontmoeten | Volwassenen (kinderen welkom) | 09:30 – 11:00 @T-HUIS
URL:https://t-huis.info/event/thee-taal-2/2026-05-29/
LOCATION:T-HUIS\, Hemelrijken 106
ATTACH;FMTTYPE=image/png:https://t-huis.info/wp-content/uploads/2025/06/THUIS_Iconen5.png
END:VEVENT
BEGIN:VEVENT
DTSTART;TZID=Europe/Paris:20260605T093000
DTEND;TZID=Europe/Paris:20260605T110000
DTSTAMP:20260425T203949
CREATED:20250711T124740Z
LAST-MODIFIED:20260209T104619Z
UID:10000141-1780651800-1780657200@t-huis.info
SUMMARY:THEE & TAAL
DESCRIPTION:Nederlands oefenen & ontmoeten | Volwassenen (kinderen welkom) | 09:30 – 11:00 @T-HUIS
URL:https://t-huis.info/event/thee-taal-2/2026-06-05/
LOCATION:T-HUIS\, Hemelrijken 106
ATTACH;FMTTYPE=image/png:https://t-huis.info/wp-content/uploads/2025/06/THUIS_Iconen5.png
END:VEVENT
BEGIN:VEVENT
DTSTART;TZID=Europe/Paris:20260612T093000
DTEND;TZID=Europe/Paris:20260612T110000
DTSTAMP:20260425T203949
CREATED:20250711T124740Z
LAST-MODIFIED:20260209T104619Z
UID:10000142-1781256600-1781262000@t-huis.info
SUMMARY:THEE & TAAL
DESCRIPTION:Nederlands oefenen & ontmoeten | Volwassenen (kinderen welkom) | 09:30 – 11:00 @T-HUIS
URL:https://t-huis.info/event/thee-taal-2/2026-06-12/
LOCATION:T-HUIS\, Hemelrijken 106
ATTACH;FMTTYPE=image/png:https://t-huis.info/wp-content/uploads/2025/06/THUIS_Iconen5.png
END:VEVENT
BEGIN:VEVENT
DTSTART;TZID=Europe/Paris:20260619T093000
DTEND;TZID=Europe/Paris:20260619T110000
DTSTAMP:20260425T203949
CREATED:20250711T124740Z
LAST-MODIFIED:20260209T104619Z
UID:10000143-1781861400-1781866800@t-huis.info
SUMMARY:THEE & TAAL
DESCRIPTION:Nederlands oefenen & ontmoeten | Volwassenen (kinderen welkom) | 09:30 – 11:00 @T-HUIS
URL:https://t-huis.info/event/thee-taal-2/2026-06-19/
LOCATION:T-HUIS\, Hemelrijken 106
ATTACH;FMTTYPE=image/png:https://t-huis.info/wp-content/uploads/2025/06/THUIS_Iconen5.png
END:VEVENT
BEGIN:VEVENT
DTSTART;TZID=Europe/Paris:20260626T093000
DTEND;TZID=Europe/Paris:20260626T110000
DTSTAMP:20260425T203949
CREATED:20250711T124740Z
LAST-MODIFIED:20260209T104619Z
UID:10000144-1782466200-1782471600@t-huis.info
SUMMARY:THEE & TAAL
DESCRIPTION:Nederlands oefenen & ontmoeten | Volwassenen (kinderen welkom) | 09:30 – 11:00 @T-HUIS
URL:https://t-huis.info/event/thee-taal-2/2026-06-26/
LOCATION:T-HUIS\, Hemelrijken 106
ATTACH;FMTTYPE=image/png:https://t-huis.info/wp-content/uploads/2025/06/THUIS_Iconen5.png
END:VEVENT
BEGIN:VEVENT
DTSTART;TZID=Europe/Paris:20260703T093000
DTEND;TZID=Europe/Paris:20260703T110000
DTSTAMP:20260425T203949
CREATED:20250711T124740Z
LAST-MODIFIED:20260209T104619Z
UID:10000145-1783071000-1783076400@t-huis.info
SUMMARY:THEE & TAAL
DESCRIPTION:Nederlands oefenen & ontmoeten | Volwassenen (kinderen welkom) | 09:30 – 11:00 @T-HUIS
URL:https://t-huis.info/event/thee-taal-2/2026-07-03/
LOCATION:T-HUIS\, Hemelrijken 106
ATTACH;FMTTYPE=image/png:https://t-huis.info/wp-content/uploads/2025/06/THUIS_Iconen5.png
END:VEVENT
BEGIN:VEVENT
DTSTART;TZID=Europe/Paris:20260710T093000
DTEND;TZID=Europe/Paris:20260710T110000
DTSTAMP:20260425T203949
CREATED:20250711T124740Z
LAST-MODIFIED:20260209T104619Z
UID:10000146-1783675800-1783681200@t-huis.info
SUMMARY:THEE & TAAL
DESCRIPTION:Nederlands oefenen & ontmoeten | Volwassenen (kinderen welkom) | 09:30 – 11:00 @T-HUIS
URL:https://t-huis.info/event/thee-taal-2/2026-07-10/
LOCATION:T-HUIS\, Hemelrijken 106
ATTACH;FMTTYPE=image/png:https://t-huis.info/wp-content/uploads/2025/06/THUIS_Iconen5.png
END:VEVENT
BEGIN:VEVENT
DTSTART;TZID=Europe/Paris:20260717T093000
DTEND;TZID=Europe/Paris:20260717T110000
DTSTAMP:20260425T203949
CREATED:20250711T124740Z
LAST-MODIFIED:20260209T104619Z
UID:10000147-1784280600-1784286000@t-huis.info
SUMMARY:THEE & TAAL
DESCRIPTION:Nederlands oefenen & ontmoeten | Volwassenen (kinderen welkom) | 09:30 – 11:00 @T-HUIS
URL:https://t-huis.info/event/thee-taal-2/2026-07-17/
LOCATION:T-HUIS\, Hemelrijken 106
ATTACH;FMTTYPE=image/png:https://t-huis.info/wp-content/uploads/2025/06/THUIS_Iconen5.png
END:VEVENT
BEGIN:VEVENT
DTSTART;TZID=Europe/Paris:20260724T093000
DTEND;TZID=Europe/Paris:20260724T110000
DTSTAMP:20260425T203949
CREATED:20250711T124740Z
LAST-MODIFIED:20260209T104619Z
UID:10000148-1784885400-1784890800@t-huis.info
SUMMARY:THEE & TAAL
DESCRIPTION:Nederlands oefenen & ontmoeten | Volwassenen (kinderen welkom) | 09:30 – 11:00 @T-HUIS
URL:https://t-huis.info/event/thee-taal-2/2026-07-24/
LOCATION:T-HUIS\, Hemelrijken 106
ATTACH;FMTTYPE=image/png:https://t-huis.info/wp-content/uploads/2025/06/THUIS_Iconen5.png
END:VEVENT
BEGIN:VEVENT
DTSTART;TZID=Europe/Paris:20260731T093000
DTEND;TZID=Europe/Paris:20260731T110000
DTSTAMP:20260425T203949
CREATED:20250711T124740Z
LAST-MODIFIED:20260209T104619Z
UID:10000149-1785490200-1785495600@t-huis.info
SUMMARY:THEE & TAAL
DESCRIPTION:Nederlands oefenen & ontmoeten | Volwassenen (kinderen welkom) | 09:30 – 11:00 @T-HUIS
URL:https://t-huis.info/event/thee-taal-2/2026-07-31/
LOCATION:T-HUIS\, Hemelrijken 106
ATTACH;FMTTYPE=image/png:https://t-huis.info/wp-content/uploads/2025/06/THUIS_Iconen5.png
END:VEVENT
BEGIN:VEVENT
DTSTART;TZID=Europe/Paris:20260807T093000
DTEND;TZID=Europe/Paris:20260807T110000
DTSTAMP:20260425T203949
CREATED:20250711T124740Z
LAST-MODIFIED:20260209T104619Z
UID:10000150-1786095000-1786100400@t-huis.info
SUMMARY:THEE & TAAL
DESCRIPTION:Nederlands oefenen & ontmoeten | Volwassenen (kinderen welkom) | 09:30 – 11:00 @T-HUIS
URL:https://t-huis.info/event/thee-taal-2/2026-08-07/
LOCATION:T-HUIS\, Hemelrijken 106
ATTACH;FMTTYPE=image/png:https://t-huis.info/wp-content/uploads/2025/06/THUIS_Iconen5.png
END:VEVENT
BEGIN:VEVENT
DTSTART;TZID=Europe/Paris:20260814T093000
DTEND;TZID=Europe/Paris:20260814T110000
DTSTAMP:20260425T203949
CREATED:20250711T124740Z
LAST-MODIFIED:20260209T104619Z
UID:10000151-1786699800-1786705200@t-huis.info
SUMMARY:THEE & TAAL
DESCRIPTION:Nederlands oefenen & ontmoeten | Volwassenen (kinderen welkom) | 09:30 – 11:00 @T-HUIS
URL:https://t-huis.info/event/thee-taal-2/2026-08-14/
LOCATION:T-HUIS\, Hemelrijken 106
ATTACH;FMTTYPE=image/png:https://t-huis.info/wp-content/uploads/2025/06/THUIS_Iconen5.png
END:VEVENT
BEGIN:VEVENT
DTSTART;TZID=Europe/Paris:20260821T093000
DTEND;TZID=Europe/Paris:20260821T110000
DTSTAMP:20260425T203949
CREATED:20250711T124740Z
LAST-MODIFIED:20260209T104619Z
UID:10000152-1787304600-1787310000@t-huis.info
SUMMARY:THEE & TAAL
DESCRIPTION:Nederlands oefenen & ontmoeten | Volwassenen (kinderen welkom) | 09:30 – 11:00 @T-HUIS
URL:https://t-huis.info/event/thee-taal-2/2026-08-21/
LOCATION:T-HUIS\, Hemelrijken 106
ATTACH;FMTTYPE=image/png:https://t-huis.info/wp-content/uploads/2025/06/THUIS_Iconen5.png
END:VEVENT
BEGIN:VEVENT
DTSTART;TZID=Europe/Paris:20260828T093000
DTEND;TZID=Europe/Paris:20260828T110000
DTSTAMP:20260425T203949
CREATED:20250711T124740Z
LAST-MODIFIED:20260209T104619Z
UID:10000153-1787909400-1787914800@t-huis.info
SUMMARY:THEE & TAAL
DESCRIPTION:Nederlands oefenen & ontmoeten | Volwassenen (kinderen welkom) | 09:30 – 11:00 @T-HUIS
URL:https://t-huis.info/event/thee-taal-2/2026-08-28/
LOCATION:T-HUIS\, Hemelrijken 106
ATTACH;FMTTYPE=image/png:https://t-huis.info/wp-content/uploads/2025/06/THUIS_Iconen5.png
END:VEVENT
BEGIN:VEVENT
DTSTART;TZID=Europe/Paris:20260904T093000
DTEND;TZID=Europe/Paris:20260904T110000
DTSTAMP:20260425T203949
CREATED:20250711T124740Z
LAST-MODIFIED:20260209T104619Z
UID:10000154-1788514200-1788519600@t-huis.info
SUMMARY:THEE & TAAL
DESCRIPTION:Nederlands oefenen & ontmoeten | Volwassenen (kinderen welkom) | 09:30 – 11:00 @T-HUIS
URL:https://t-huis.info/event/thee-taal-2/2026-09-04/
LOCATION:T-HUIS\, Hemelrijken 106
ATTACH;FMTTYPE=image/png:https://t-huis.info/wp-content/uploads/2025/06/THUIS_Iconen5.png
END:VEVENT
BEGIN:VEVENT
DTSTART;TZID=Europe/Paris:20260911T093000
DTEND;TZID=Europe/Paris:20260911T110000
DTSTAMP:20260425T203949
CREATED:20250711T124740Z
LAST-MODIFIED:20260209T104619Z
UID:10000155-1789119000-1789124400@t-huis.info
SUMMARY:THEE & TAAL
DESCRIPTION:Nederlands oefenen & ontmoeten | Volwassenen (kinderen welkom) | 09:30 – 11:00 @T-HUIS
URL:https://t-huis.info/event/thee-taal-2/2026-09-11/
LOCATION:T-HUIS\, Hemelrijken 106
ATTACH;FMTTYPE=image/png:https://t-huis.info/wp-content/uploads/2025/06/THUIS_Iconen5.png
END:VEVENT
BEGIN:VEVENT
DTSTART;TZID=Europe/Paris:20260918T093000
DTEND;TZID=Europe/Paris:20260918T110000
DTSTAMP:20260425T203949
CREATED:20250711T124740Z
LAST-MODIFIED:20260209T104619Z
UID:10000156-1789723800-1789729200@t-huis.info
SUMMARY:THEE & TAAL
DESCRIPTION:Nederlands oefenen & ontmoeten | Volwassenen (kinderen welkom) | 09:30 – 11:00 @T-HUIS
URL:https://t-huis.info/event/thee-taal-2/2026-09-18/
LOCATION:T-HUIS\, Hemelrijken 106
ATTACH;FMTTYPE=image/png:https://t-huis.info/wp-content/uploads/2025/06/THUIS_Iconen5.png
END:VEVENT
BEGIN:VEVENT
DTSTART;TZID=Europe/Paris:20260925T093000
DTEND;TZID=Europe/Paris:20260925T110000
DTSTAMP:20260425T203949
CREATED:20250711T124740Z
LAST-MODIFIED:20260209T104619Z
UID:10000157-1790328600-1790334000@t-huis.info
SUMMARY:THEE & TAAL
DESCRIPTION:Nederlands oefenen & ontmoeten | Volwassenen (kinderen welkom) | 09:30 – 11:00 @T-HUIS
URL:https://t-huis.info/event/thee-taal-2/2026-09-25/
LOCATION:T-HUIS\, Hemelrijken 106
ATTACH;FMTTYPE=image/png:https://t-huis.info/wp-content/uploads/2025/06/THUIS_Iconen5.png
END:VEVENT
BEGIN:VEVENT
DTSTART;TZID=Europe/Paris:20261002T093000
DTEND;TZID=Europe/Paris:20261002T110000
DTSTAMP:20260425T203949
CREATED:20250711T124740Z
LAST-MODIFIED:20260209T104619Z
UID:10000158-1790933400-1790938800@t-huis.info
SUMMARY:THEE & TAAL
DESCRIPTION:Nederlands oefenen & ontmoeten | Volwassenen (kinderen welkom) | 09:30 – 11:00 @T-HUIS
URL:https://t-huis.info/event/thee-taal-2/2026-10-02/
LOCATION:T-HUIS\, Hemelrijken 106
ATTACH;FMTTYPE=image/png:https://t-huis.info/wp-content/uploads/2025/06/THUIS_Iconen5.png
END:VEVENT
BEGIN:VEVENT
DTSTART;TZID=Europe/Paris:20261009T093000
DTEND;TZID=Europe/Paris:20261009T110000
DTSTAMP:20260425T203949
CREATED:20250711T124740Z
LAST-MODIFIED:20260209T104619Z
UID:10000159-1791538200-1791543600@t-huis.info
SUMMARY:THEE & TAAL
DESCRIPTION:Nederlands oefenen & ontmoeten | Volwassenen (kinderen welkom) | 09:30 – 11:00 @T-HUIS
URL:https://t-huis.info/event/thee-taal-2/2026-10-09/
LOCATION:T-HUIS\, Hemelrijken 106
ATTACH;FMTTYPE=image/png:https://t-huis.info/wp-content/uploads/2025/06/THUIS_Iconen5.png
END:VEVENT
BEGIN:VEVENT
DTSTART;TZID=Europe/Paris:20261016T093000
DTEND;TZID=Europe/Paris:20261016T110000
DTSTAMP:20260425T203949
CREATED:20250711T124740Z
LAST-MODIFIED:20260209T104619Z
UID:10000160-1792143000-1792148400@t-huis.info
SUMMARY:THEE & TAAL
DESCRIPTION:Nederlands oefenen & ontmoeten | Volwassenen (kinderen welkom) | 09:30 – 11:00 @T-HUIS
URL:https://t-huis.info/event/thee-taal-2/2026-10-16/
LOCATION:T-HUIS\, Hemelrijken 106
ATTACH;FMTTYPE=image/png:https://t-huis.info/wp-content/uploads/2025/06/THUIS_Iconen5.png
END:VEVENT
BEGIN:VEVENT
DTSTART;TZID=Europe/Paris:20261023T093000
DTEND;TZID=Europe/Paris:20261023T110000
DTSTAMP:20260425T203949
CREATED:20250711T124740Z
LAST-MODIFIED:20260209T104619Z
UID:10000161-1792747800-1792753200@t-huis.info
SUMMARY:THEE & TAAL
DESCRIPTION:Nederlands oefenen & ontmoeten | Volwassenen (kinderen welkom) | 09:30 – 11:00 @T-HUIS
URL:https://t-huis.info/event/thee-taal-2/2026-10-23/
LOCATION:T-HUIS\, Hemelrijken 106
ATTACH;FMTTYPE=image/png:https://t-huis.info/wp-content/uploads/2025/06/THUIS_Iconen5.png
END:VEVENT
BEGIN:VEVENT
DTSTART;TZID=Europe/Paris:20261030T093000
DTEND;TZID=Europe/Paris:20261030T110000
DTSTAMP:20260425T203949
CREATED:20250711T124740Z
LAST-MODIFIED:20260209T104619Z
UID:10000162-1793352600-1793358000@t-huis.info
SUMMARY:THEE & TAAL
DESCRIPTION:Nederlands oefenen & ontmoeten | Volwassenen (kinderen welkom) | 09:30 – 11:00 @T-HUIS
URL:https://t-huis.info/event/thee-taal-2/2026-10-30/
LOCATION:T-HUIS\, Hemelrijken 106
ATTACH;FMTTYPE=image/png:https://t-huis.info/wp-content/uploads/2025/06/THUIS_Iconen5.png
END:VEVENT
BEGIN:VEVENT
DTSTART;TZID=Europe/Paris:20261106T093000
DTEND;TZID=Europe/Paris:20261106T110000
DTSTAMP:20260425T203949
CREATED:20250711T124740Z
LAST-MODIFIED:20260209T104619Z
UID:10000163-1793957400-1793962800@t-huis.info
SUMMARY:THEE & TAAL
DESCRIPTION:Nederlands oefenen & ontmoeten | Volwassenen (kinderen welkom) | 09:30 – 11:00 @T-HUIS
URL:https://t-huis.info/event/thee-taal-2/2026-11-06/
LOCATION:T-HUIS\, Hemelrijken 106
ATTACH;FMTTYPE=image/png:https://t-huis.info/wp-content/uploads/2025/06/THUIS_Iconen5.png
END:VEVENT
BEGIN:VEVENT
DTSTART;TZID=Europe/Paris:20261113T093000
DTEND;TZID=Europe/Paris:20261113T110000
DTSTAMP:20260425T203949
CREATED:20250711T124740Z
LAST-MODIFIED:20260209T104619Z
UID:10000164-1794562200-1794567600@t-huis.info
SUMMARY:THEE & TAAL
DESCRIPTION:Nederlands oefenen & ontmoeten | Volwassenen (kinderen welkom) | 09:30 – 11:00 @T-HUIS
URL:https://t-huis.info/event/thee-taal-2/2026-11-13/
LOCATION:T-HUIS\, Hemelrijken 106
ATTACH;FMTTYPE=image/png:https://t-huis.info/wp-content/uploads/2025/06/THUIS_Iconen5.png
END:VEVENT
BEGIN:VEVENT
DTSTART;TZID=Europe/Paris:20261120T093000
DTEND;TZID=Europe/Paris:20261120T110000
DTSTAMP:20260425T203949
CREATED:20250711T124740Z
LAST-MODIFIED:20260209T104619Z
UID:10000165-1795167000-1795172400@t-huis.info
SUMMARY:THEE & TAAL
DESCRIPTION:Nederlands oefenen & ontmoeten | Volwassenen (kinderen welkom) | 09:30 – 11:00 @T-HUIS
URL:https://t-huis.info/event/thee-taal-2/2026-11-20/
LOCATION:T-HUIS\, Hemelrijken 106
ATTACH;FMTTYPE=image/png:https://t-huis.info/wp-content/uploads/2025/06/THUIS_Iconen5.png
END:VEVENT
END:VCALENDAR