BEGIN:VCALENDAR
VERSION:2.0
PRODID:-//T+Huis Eindhoven - ECPv6.15.20//NONSGML v1.0//EN
CALSCALE:GREGORIAN
METHOD:PUBLISH
X-WR-CALNAME:T+Huis Eindhoven
X-ORIGINAL-URL:https://t-huis.info
X-WR-CALDESC:Evenementen voor T+Huis Eindhoven
REFRESH-INTERVAL;VALUE=DURATION:PT1H
X-Robots-Tag:noindex
X-PUBLISHED-TTL:PT1H
BEGIN:VTIMEZONE
TZID:Europe/Paris
BEGIN:DAYLIGHT
TZOFFSETFROM:+0100
TZOFFSETTO:+0200
TZNAME:CEST
DTSTART:20250330T010000
END:DAYLIGHT
BEGIN:STANDARD
TZOFFSETFROM:+0200
TZOFFSETTO:+0100
TZNAME:CET
DTSTART:20251026T010000
END:STANDARD
BEGIN:DAYLIGHT
TZOFFSETFROM:+0100
TZOFFSETTO:+0200
TZNAME:CEST
DTSTART:20260329T010000
END:DAYLIGHT
BEGIN:STANDARD
TZOFFSETFROM:+0200
TZOFFSETTO:+0100
TZNAME:CET
DTSTART:20261025T010000
END:STANDARD
BEGIN:DAYLIGHT
TZOFFSETFROM:+0100
TZOFFSETTO:+0200
TZNAME:CEST
DTSTART:20270328T010000
END:DAYLIGHT
BEGIN:STANDARD
TZOFFSETFROM:+0200
TZOFFSETTO:+0100
TZNAME:CET
DTSTART:20271031T010000
END:STANDARD
END:VTIMEZONE
BEGIN:VEVENT
DTSTART;TZID=Europe/Paris:20260101T090000
DTEND;TZID=Europe/Paris:20260101T103000
DTSTAMP:20260420T134759
CREATED:20250820T110410Z
LAST-MODIFIED:20260209T104439Z
UID:10000965-1767258000-1767263400@t-huis.info
SUMMARY:& KLETS
DESCRIPTION:Ontmoeten & creatief | Volwassenen (kids welkom) | 09:00 – 10:30 @T-HUIS
URL:https://t-huis.info/event/klets/2026-01-01/
ATTACH;FMTTYPE=image/png:https://t-huis.info/wp-content/uploads/2025/06/THUIS_Iconen5.png
END:VEVENT
BEGIN:VEVENT
DTSTART;TZID=Europe/Paris:20260101T144500
DTEND;TZID=Europe/Paris:20260101T154500
DTSTAMP:20260420T134759
CREATED:20250820T092808Z
LAST-MODIFIED:20260209T104341Z
UID:10001747-1767278700-1767282300@t-huis.info
SUMMARY:HUISWERK-CLUB
DESCRIPTION:Huiswerkbegeleiding | Groep 5-8 (op inschrijving) | 14:45 – 15:45 @T-HUIS
URL:https://t-huis.info/event/huiswerk-club/2026-01-01/
LOCATION:T-HUIS\, Hemelrijken 106
ATTACH;FMTTYPE=image/png:https://t-huis.info/wp-content/uploads/2025/06/THUIS_Iconen9.png
END:VEVENT
BEGIN:VEVENT
DTSTART;TZID=Europe/Paris:20260101T144500
DTEND;TZID=Europe/Paris:20260101T154500
DTSTAMP:20260420T134759
CREATED:20250929T150506Z
LAST-MODIFIED:20251007T180209Z
UID:10003787-1767278700-1767282300@t-huis.info
SUMMARY:MEIDEN-CLUB
DESCRIPTION:Dynamo Jeugdwerk | Meiden 10-14 | 16:00 – 17:30
URL:https://t-huis.info/event/meiden-club/2026-01-01/
LOCATION:T-HUIS\, Hemelrijken 106
ATTACH;FMTTYPE=image/png:https://t-huis.info/wp-content/uploads/2025/06/THUIS_Iconen7.png
END:VEVENT
BEGIN:VEVENT
DTSTART;TZID=Europe/Paris:20260102T093000
DTEND;TZID=Europe/Paris:20260102T110000
DTSTAMP:20260420T134759
CREATED:20250711T124740Z
LAST-MODIFIED:20260209T104619Z
UID:10000119-1767346200-1767351600@t-huis.info
SUMMARY:THEE & TAAL
DESCRIPTION:Nederlands oefenen & ontmoeten | Volwassenen (kinderen welkom) | 09:30 – 11:00 @T-HUIS
URL:https://t-huis.info/event/thee-taal-2/2026-01-02/
LOCATION:T-HUIS\, Hemelrijken 106
ATTACH;FMTTYPE=image/png:https://t-huis.info/wp-content/uploads/2025/06/THUIS_Iconen5.png
END:VEVENT
BEGIN:VEVENT
DTSTART;TZID=Europe/Paris:20260105T150000
DTEND;TZID=Europe/Paris:20260105T160000
DTSTAMP:20260420T134759
CREATED:20251007T073843Z
LAST-MODIFIED:20251007T073933Z
UID:10004611-1767625200-1767628800@t-huis.info
SUMMARY:LEES-MAATJES
DESCRIPTION:Voorlezen bij gezinnen thuis | Kinderen 4-8 jaar | op afspraak
URL:https://t-huis.info/event/lees-maatjes/2026-01-05/
LOCATION:Gymzaal Basisschool Fellenoord\, Hemelrijken 310\, Eindhoven\, 5612WS
ATTACH;FMTTYPE=image/png:https://t-huis.info/wp-content/uploads/2025/06/THUIS_Iconen.png
END:VEVENT
BEGIN:VEVENT
DTSTART;TZID=Europe/Paris:20260105T150000
DTEND;TZID=Europe/Paris:20260105T170000
DTSTAMP:20260420T134759
CREATED:20250820T103003Z
LAST-MODIFIED:20260209T104239Z
UID:10001226-1767625200-1767632400@t-huis.info
SUMMARY:1-1 BEGELEIDING
DESCRIPTION:Taal – rekenen – huiswerk | Groep 3-8 (op inschrijving) | 15:00 – 17:00 @T-HUIS
URL:https://t-huis.info/event/1-1-begeleiding/2026-01-05/
LOCATION:T-HUIS\, Hemelrijken 106
ATTACH;FMTTYPE=image/png:https://t-huis.info/wp-content/uploads/2025/06/THUIS_Iconen9.png
END:VEVENT
BEGIN:VEVENT
DTSTART;TZID=Europe/Paris:20260105T150000
DTEND;TZID=Europe/Paris:20260105T170000
DTSTAMP:20260420T134759
CREATED:20250929T151144Z
LAST-MODIFIED:20260209T104204Z
UID:10004053-1767625200-1767632400@t-huis.info
SUMMARY:DANSLESSEN
DESCRIPTION:Dynamo Jeugdwerk | Tieners 10-14 jaar | 17:00 – 18:00 @gymzaal
URL:https://t-huis.info/event/danslessen/2026-01-05/
LOCATION:Gymzaal Basisschool Fellenoord\, Hemelrijken 310\, Eindhoven\, 5612WS
ATTACH;FMTTYPE=image/png:https://t-huis.info/wp-content/uploads/2025/06/THUIS_Iconen11.png
END:VEVENT
BEGIN:VEVENT
DTSTART;TZID=Europe/Paris:20260105T193000
DTEND;TZID=Europe/Paris:20260105T203000
DTSTAMP:20260420T134759
CREATED:20250910T084107Z
LAST-MODIFIED:20260209T104037Z
UID:10002799-1767641400-1767645000@t-huis.info
SUMMARY:FIT & VROUW
DESCRIPTION:Sporten met Aya | Vrouwen/ meiden 16+ | 19:30 – 20:30 @gymzaal
URL:https://t-huis.info/event/fit-vrouw/2026-01-05/
LOCATION:Gymzaal Basisschool Fellenoord\, Hemelrijken 310\, Eindhoven\, 5612WS
ATTACH;FMTTYPE=image/png:https://t-huis.info/wp-content/uploads/2025/06/THUIS_Iconen11.png
END:VEVENT
BEGIN:VEVENT
DTSTART;TZID=Europe/Paris:20260106T144500
DTEND;TZID=Europe/Paris:20260106T161500
DTSTAMP:20260420T134759
CREATED:20250820T100940Z
LAST-MODIFIED:20260209T104136Z
UID:10000705-1767710700-1767716100@t-huis.info
SUMMARY:KOOK-CLUB
DESCRIPTION:Samen koken & eten | Kinderen 6+ | 14:45 – 16:15 @T-HUIS
URL:https://t-huis.info/event/kook-club/2026-01-06/
LOCATION:T-HUIS\, Hemelrijken 106
ATTACH;FMTTYPE=image/png:https://t-huis.info/wp-content/uploads/2025/06/THUIS_Iconen3.png
END:VEVENT
BEGIN:VEVENT
DTSTART;TZID=Europe/Paris:20260106T190000
DTEND;TZID=Europe/Paris:20260106T203000
DTSTAMP:20260420T134759
CREATED:20250910T090119Z
LAST-MODIFIED:20260209T103956Z
UID:10003260-1767726000-1767731400@t-huis.info
SUMMARY:YOGA
DESCRIPTION:Yoga met Denise | Volwassenen | 19:00 – 20:30 @T-HUIS
URL:https://t-huis.info/event/vrije-inloop-3-2/2026-01-06/
LOCATION:T-HUIS\, Hemelrijken 106
ATTACH;FMTTYPE=image/png:https://t-huis.info/wp-content/uploads/2025/06/THUIS_Iconen7.png
END:VEVENT
BEGIN:VEVENT
DTSTART;TZID=Europe/Paris:20260107T123000
DTEND;TZID=Europe/Paris:20260107T134500
DTSTAMP:20260420T134759
CREATED:20250820T094624Z
LAST-MODIFIED:20260209T104526Z
UID:10001487-1767789000-1767793500@t-huis.info
SUMMARY:CLUB VAN GENT
DESCRIPTION:Voetballen met Dori | Groep 5-8 | 12:30 – 13:45 @van Gentplein
URL:https://t-huis.info/event/club-van-gent/2026-01-07/
LOCATION:T-HUIS\, Hemelrijken 106
ATTACH;FMTTYPE=image/png:https://t-huis.info/wp-content/uploads/2025/06/THUIS_Iconen15.png
END:VEVENT
BEGIN:VEVENT
DTSTART;TZID=Europe/Paris:20260107T123000
DTEND;TZID=Europe/Paris:20260107T140000
DTSTAMP:20260420T134759
CREATED:20250820T104601Z
LAST-MODIFIED:20260209T104109Z
UID:10002268-1767789000-1767794400@t-huis.info
SUMMARY:VRIJE MIDDAG
DESCRIPTION:Spelletjes & kletsen | Kinderen 6+ | 12:30 – 14:30 @T-HUIS
URL:https://t-huis.info/event/vrije-inloop-2/2026-01-07/
ATTACH;FMTTYPE=image/png:https://t-huis.info/wp-content/uploads/2025/06/THUIS_Iconen7.png
END:VEVENT
BEGIN:VEVENT
DTSTART;TZID=Europe/Paris:20260107T133000
DTEND;TZID=Europe/Paris:20260107T150000
DTSTAMP:20260420T134759
CREATED:20250901T113728Z
LAST-MODIFIED:20260303T142611Z
UID:10006381-1767792600-1767798000@t-huis.info
SUMMARY:CREA-FEEST
DESCRIPTION:Ouder + kind activiteiten | Ouders en kinderen (0-6) | 13:30 – 15:00 @T-HUIS
URL:https://t-huis.info/event/creafeest-3/2026-01-07/
ATTACH;FMTTYPE=image/png:https://t-huis.info/wp-content/uploads/2025/06/THUIS_Iconen7.png
END:VEVENT
BEGIN:VEVENT
DTSTART;TZID=Europe/Paris:20260107T150000
DTEND;TZID=Europe/Paris:20260107T160000
DTSTAMP:20260420T134759
CREATED:20250910T085819Z
LAST-MODIFIED:20260209T145008Z
UID:10003522-1767798000-1767801600@t-huis.info
SUMMARY:ZAALVOETBAL
DESCRIPTION:Zaalvoetbal met Dori | Kinderen 8+ | 15:00 – 16:15 @gymzaal
URL:https://t-huis.info/event/zaalvoetbal/2026-01-07/
LOCATION:Gymzaal Basisschool Fellenoord\, Hemelrijken 310\, Eindhoven\, 5612WS
ATTACH;FMTTYPE=image/png:https://t-huis.info/wp-content/uploads/2025/06/THUIS_Iconen7.png
END:VEVENT
BEGIN:VEVENT
DTSTART;TZID=Europe/Paris:20260108T090000
DTEND;TZID=Europe/Paris:20260108T103000
DTSTAMP:20260420T134759
CREATED:20250820T110410Z
LAST-MODIFIED:20260209T104439Z
UID:10000966-1767862800-1767868200@t-huis.info
SUMMARY:& KLETS
DESCRIPTION:Ontmoeten & creatief | Volwassenen (kids welkom) | 09:00 – 10:30 @T-HUIS
URL:https://t-huis.info/event/klets/2026-01-08/
ATTACH;FMTTYPE=image/png:https://t-huis.info/wp-content/uploads/2025/06/THUIS_Iconen5.png
END:VEVENT
BEGIN:VEVENT
DTSTART;TZID=Europe/Paris:20260108T144500
DTEND;TZID=Europe/Paris:20260108T154500
DTSTAMP:20260420T134759
CREATED:20250820T092808Z
LAST-MODIFIED:20260209T104341Z
UID:10001748-1767883500-1767887100@t-huis.info
SUMMARY:HUISWERK-CLUB
DESCRIPTION:Huiswerkbegeleiding | Groep 5-8 (op inschrijving) | 14:45 – 15:45 @T-HUIS
URL:https://t-huis.info/event/huiswerk-club/2026-01-08/
LOCATION:T-HUIS\, Hemelrijken 106
ATTACH;FMTTYPE=image/png:https://t-huis.info/wp-content/uploads/2025/06/THUIS_Iconen9.png
END:VEVENT
BEGIN:VEVENT
DTSTART;TZID=Europe/Paris:20260108T144500
DTEND;TZID=Europe/Paris:20260108T154500
DTSTAMP:20260420T134759
CREATED:20250929T150506Z
LAST-MODIFIED:20251007T180209Z
UID:10003788-1767883500-1767887100@t-huis.info
SUMMARY:MEIDEN-CLUB
DESCRIPTION:Dynamo Jeugdwerk | Meiden 10-14 | 16:00 – 17:30
URL:https://t-huis.info/event/meiden-club/2026-01-08/
LOCATION:T-HUIS\, Hemelrijken 106
ATTACH;FMTTYPE=image/png:https://t-huis.info/wp-content/uploads/2025/06/THUIS_Iconen7.png
END:VEVENT
BEGIN:VEVENT
DTSTART;TZID=Europe/Paris:20260109T093000
DTEND;TZID=Europe/Paris:20260109T110000
DTSTAMP:20260420T134759
CREATED:20250711T124740Z
LAST-MODIFIED:20260209T104619Z
UID:10000120-1767951000-1767956400@t-huis.info
SUMMARY:THEE & TAAL
DESCRIPTION:Nederlands oefenen & ontmoeten | Volwassenen (kinderen welkom) | 09:30 – 11:00 @T-HUIS
URL:https://t-huis.info/event/thee-taal-2/2026-01-09/
LOCATION:T-HUIS\, Hemelrijken 106
ATTACH;FMTTYPE=image/png:https://t-huis.info/wp-content/uploads/2025/06/THUIS_Iconen5.png
END:VEVENT
BEGIN:VEVENT
DTSTART;TZID=Europe/Paris:20260112T150000
DTEND;TZID=Europe/Paris:20260112T160000
DTSTAMP:20260420T134759
CREATED:20251007T073843Z
LAST-MODIFIED:20251007T073933Z
UID:10004612-1768230000-1768233600@t-huis.info
SUMMARY:LEES-MAATJES
DESCRIPTION:Voorlezen bij gezinnen thuis | Kinderen 4-8 jaar | op afspraak
URL:https://t-huis.info/event/lees-maatjes/2026-01-12/
LOCATION:Gymzaal Basisschool Fellenoord\, Hemelrijken 310\, Eindhoven\, 5612WS
ATTACH;FMTTYPE=image/png:https://t-huis.info/wp-content/uploads/2025/06/THUIS_Iconen.png
END:VEVENT
BEGIN:VEVENT
DTSTART;TZID=Europe/Paris:20260112T150000
DTEND;TZID=Europe/Paris:20260112T170000
DTSTAMP:20260420T134759
CREATED:20250820T103003Z
LAST-MODIFIED:20260209T104239Z
UID:10001227-1768230000-1768237200@t-huis.info
SUMMARY:1-1 BEGELEIDING
DESCRIPTION:Taal – rekenen – huiswerk | Groep 3-8 (op inschrijving) | 15:00 – 17:00 @T-HUIS
URL:https://t-huis.info/event/1-1-begeleiding/2026-01-12/
LOCATION:T-HUIS\, Hemelrijken 106
ATTACH;FMTTYPE=image/png:https://t-huis.info/wp-content/uploads/2025/06/THUIS_Iconen9.png
END:VEVENT
BEGIN:VEVENT
DTSTART;TZID=Europe/Paris:20260112T150000
DTEND;TZID=Europe/Paris:20260112T170000
DTSTAMP:20260420T134759
CREATED:20250929T151144Z
LAST-MODIFIED:20260209T104204Z
UID:10004054-1768230000-1768237200@t-huis.info
SUMMARY:DANSLESSEN
DESCRIPTION:Dynamo Jeugdwerk | Tieners 10-14 jaar | 17:00 – 18:00 @gymzaal
URL:https://t-huis.info/event/danslessen/2026-01-12/
LOCATION:Gymzaal Basisschool Fellenoord\, Hemelrijken 310\, Eindhoven\, 5612WS
ATTACH;FMTTYPE=image/png:https://t-huis.info/wp-content/uploads/2025/06/THUIS_Iconen11.png
END:VEVENT
BEGIN:VEVENT
DTSTART;TZID=Europe/Paris:20260112T193000
DTEND;TZID=Europe/Paris:20260112T203000
DTSTAMP:20260420T134759
CREATED:20250910T084107Z
LAST-MODIFIED:20260209T104037Z
UID:10002800-1768246200-1768249800@t-huis.info
SUMMARY:FIT & VROUW
DESCRIPTION:Sporten met Aya | Vrouwen/ meiden 16+ | 19:30 – 20:30 @gymzaal
URL:https://t-huis.info/event/fit-vrouw/2026-01-12/
LOCATION:Gymzaal Basisschool Fellenoord\, Hemelrijken 310\, Eindhoven\, 5612WS
ATTACH;FMTTYPE=image/png:https://t-huis.info/wp-content/uploads/2025/06/THUIS_Iconen11.png
END:VEVENT
BEGIN:VEVENT
DTSTART;TZID=Europe/Paris:20260113T144500
DTEND;TZID=Europe/Paris:20260113T161500
DTSTAMP:20260420T134759
CREATED:20250820T100940Z
LAST-MODIFIED:20260209T104136Z
UID:10000706-1768315500-1768320900@t-huis.info
SUMMARY:KOOK-CLUB
DESCRIPTION:Samen koken & eten | Kinderen 6+ | 14:45 – 16:15 @T-HUIS
URL:https://t-huis.info/event/kook-club/2026-01-13/
LOCATION:T-HUIS\, Hemelrijken 106
ATTACH;FMTTYPE=image/png:https://t-huis.info/wp-content/uploads/2025/06/THUIS_Iconen3.png
END:VEVENT
BEGIN:VEVENT
DTSTART;TZID=Europe/Paris:20260113T190000
DTEND;TZID=Europe/Paris:20260113T203000
DTSTAMP:20260420T134759
CREATED:20250910T090119Z
LAST-MODIFIED:20260209T103956Z
UID:10003261-1768330800-1768336200@t-huis.info
SUMMARY:YOGA
DESCRIPTION:Yoga met Denise | Volwassenen | 19:00 – 20:30 @T-HUIS
URL:https://t-huis.info/event/vrije-inloop-3-2/2026-01-13/
LOCATION:T-HUIS\, Hemelrijken 106
ATTACH;FMTTYPE=image/png:https://t-huis.info/wp-content/uploads/2025/06/THUIS_Iconen7.png
END:VEVENT
BEGIN:VEVENT
DTSTART;TZID=Europe/Paris:20260114T123000
DTEND;TZID=Europe/Paris:20260114T134500
DTSTAMP:20260420T134759
CREATED:20250820T094624Z
LAST-MODIFIED:20260209T104526Z
UID:10001488-1768393800-1768398300@t-huis.info
SUMMARY:CLUB VAN GENT
DESCRIPTION:Voetballen met Dori | Groep 5-8 | 12:30 – 13:45 @van Gentplein
URL:https://t-huis.info/event/club-van-gent/2026-01-14/
LOCATION:T-HUIS\, Hemelrijken 106
ATTACH;FMTTYPE=image/png:https://t-huis.info/wp-content/uploads/2025/06/THUIS_Iconen15.png
END:VEVENT
BEGIN:VEVENT
DTSTART;TZID=Europe/Paris:20260114T123000
DTEND;TZID=Europe/Paris:20260114T140000
DTSTAMP:20260420T134759
CREATED:20250820T104601Z
LAST-MODIFIED:20260209T104109Z
UID:10002269-1768393800-1768399200@t-huis.info
SUMMARY:VRIJE MIDDAG
DESCRIPTION:Spelletjes & kletsen | Kinderen 6+ | 12:30 – 14:30 @T-HUIS
URL:https://t-huis.info/event/vrije-inloop-2/2026-01-14/
ATTACH;FMTTYPE=image/png:https://t-huis.info/wp-content/uploads/2025/06/THUIS_Iconen7.png
END:VEVENT
BEGIN:VEVENT
DTSTART;TZID=Europe/Paris:20260114T133000
DTEND;TZID=Europe/Paris:20260114T150000
DTSTAMP:20260420T134759
CREATED:20250901T113728Z
LAST-MODIFIED:20260303T142611Z
UID:10000632-1768397400-1768402800@t-huis.info
SUMMARY:CREA-FEEST
DESCRIPTION:Ouder + kind activiteiten | Ouders en kinderen (0-6) | 13:30 – 15:00 @T-HUIS
URL:https://t-huis.info/event/creafeest-3/2026-01-14/
ATTACH;FMTTYPE=image/png:https://t-huis.info/wp-content/uploads/2025/06/THUIS_Iconen7.png
END:VEVENT
BEGIN:VEVENT
DTSTART;TZID=Europe/Paris:20260114T150000
DTEND;TZID=Europe/Paris:20260114T160000
DTSTAMP:20260420T134759
CREATED:20250910T085819Z
LAST-MODIFIED:20260209T145008Z
UID:10003523-1768402800-1768406400@t-huis.info
SUMMARY:ZAALVOETBAL
DESCRIPTION:Zaalvoetbal met Dori | Kinderen 8+ | 15:00 – 16:15 @gymzaal
URL:https://t-huis.info/event/zaalvoetbal/2026-01-14/
LOCATION:Gymzaal Basisschool Fellenoord\, Hemelrijken 310\, Eindhoven\, 5612WS
ATTACH;FMTTYPE=image/png:https://t-huis.info/wp-content/uploads/2025/06/THUIS_Iconen7.png
END:VEVENT
BEGIN:VEVENT
DTSTART;TZID=Europe/Paris:20260115T090000
DTEND;TZID=Europe/Paris:20260115T103000
DTSTAMP:20260420T134759
CREATED:20250820T110410Z
LAST-MODIFIED:20260209T104439Z
UID:10000967-1768467600-1768473000@t-huis.info
SUMMARY:& KLETS
DESCRIPTION:Ontmoeten & creatief | Volwassenen (kids welkom) | 09:00 – 10:30 @T-HUIS
URL:https://t-huis.info/event/klets/2026-01-15/
ATTACH;FMTTYPE=image/png:https://t-huis.info/wp-content/uploads/2025/06/THUIS_Iconen5.png
END:VEVENT
BEGIN:VEVENT
DTSTART;TZID=Europe/Paris:20260115T144500
DTEND;TZID=Europe/Paris:20260115T154500
DTSTAMP:20260420T134759
CREATED:20250820T092808Z
LAST-MODIFIED:20260209T104341Z
UID:10001749-1768488300-1768491900@t-huis.info
SUMMARY:HUISWERK-CLUB
DESCRIPTION:Huiswerkbegeleiding | Groep 5-8 (op inschrijving) | 14:45 – 15:45 @T-HUIS
URL:https://t-huis.info/event/huiswerk-club/2026-01-15/
LOCATION:T-HUIS\, Hemelrijken 106
ATTACH;FMTTYPE=image/png:https://t-huis.info/wp-content/uploads/2025/06/THUIS_Iconen9.png
END:VEVENT
END:VCALENDAR