BEGIN:VCALENDAR
VERSION:2.0
PRODID:-//T+Huis Eindhoven - ECPv6.15.20//NONSGML v1.0//EN
CALSCALE:GREGORIAN
METHOD:PUBLISH
X-WR-CALNAME:T+Huis Eindhoven
X-ORIGINAL-URL:https://t-huis.info
X-WR-CALDESC:Evenementen voor T+Huis Eindhoven
REFRESH-INTERVAL;VALUE=DURATION:PT1H
X-Robots-Tag:noindex
X-PUBLISHED-TTL:PT1H
BEGIN:VTIMEZONE
TZID:Europe/Paris
BEGIN:DAYLIGHT
TZOFFSETFROM:+0100
TZOFFSETTO:+0200
TZNAME:CEST
DTSTART:20250330T010000
END:DAYLIGHT
BEGIN:STANDARD
TZOFFSETFROM:+0200
TZOFFSETTO:+0100
TZNAME:CET
DTSTART:20251026T010000
END:STANDARD
BEGIN:DAYLIGHT
TZOFFSETFROM:+0100
TZOFFSETTO:+0200
TZNAME:CEST
DTSTART:20260329T010000
END:DAYLIGHT
BEGIN:STANDARD
TZOFFSETFROM:+0200
TZOFFSETTO:+0100
TZNAME:CET
DTSTART:20261025T010000
END:STANDARD
BEGIN:DAYLIGHT
TZOFFSETFROM:+0100
TZOFFSETTO:+0200
TZNAME:CEST
DTSTART:20270328T010000
END:DAYLIGHT
BEGIN:STANDARD
TZOFFSETFROM:+0200
TZOFFSETTO:+0100
TZNAME:CET
DTSTART:20271031T010000
END:STANDARD
END:VTIMEZONE
BEGIN:VEVENT
DTSTART;TZID=Europe/Paris:20260303T140000
DTEND;TZID=Europe/Paris:20260303T150000
DTSTAMP:20260418T235013
CREATED:20260209T102052Z
LAST-MODIFIED:20260209T145122Z
UID:10006110-1772546400-1772550000@t-huis.info
SUMMARY:LEES-MAATJES
DESCRIPTION:Voorlezen bij gezinnen thuis | Kinderen 4-10 jaar | op afspraak
URL:https://t-huis.info/event/lees-maatjes-2/2026-03-03/
LOCATION:Gymzaal Basisschool Fellenoord\, Hemelrijken 310\, Eindhoven\, 5612WS
ATTACH;FMTTYPE=image/png:https://t-huis.info/wp-content/uploads/2025/06/THUIS_Iconen.png
END:VEVENT
BEGIN:VEVENT
DTSTART;TZID=Europe/Paris:20260303T144500
DTEND;TZID=Europe/Paris:20260303T161500
DTSTAMP:20260418T235013
CREATED:20250820T100940Z
LAST-MODIFIED:20260209T104136Z
UID:10000713-1772549100-1772554500@t-huis.info
SUMMARY:KOOK-CLUB
DESCRIPTION:Samen koken & eten | Kinderen 6+ | 14:45 – 16:15 @T-HUIS
URL:https://t-huis.info/event/kook-club/2026-03-03/
LOCATION:T-HUIS\, Hemelrijken 106
ATTACH;FMTTYPE=image/png:https://t-huis.info/wp-content/uploads/2025/06/THUIS_Iconen3.png
END:VEVENT
BEGIN:VEVENT
DTSTART;TZID=Europe/Paris:20260303T170000
DTEND;TZID=Europe/Paris:20260303T181500
DTSTAMP:20260418T235013
CREATED:20260209T103221Z
LAST-MODIFIED:20260209T103537Z
UID:10005670-1772557200-1772561700@t-huis.info
SUMMARY:BASKETBAL TRAINING
DESCRIPTION:Basketbal met Dori | Kinderen 10-14 jaar | 15.00-16.00u @gymzaal
URL:https://t-huis.info/event/lees-maatjes-3/2026-03-03/
LOCATION:Gymzaal Basisschool Fellenoord\, Hemelrijken 310\, Eindhoven\, 5612WS
ATTACH;FMTTYPE=image/png:https://t-huis.info/wp-content/uploads/2025/06/THUIS_Iconen.png
END:VEVENT
BEGIN:VEVENT
DTSTART;TZID=Europe/Paris:20260303T190000
DTEND;TZID=Europe/Paris:20260303T203000
DTSTAMP:20260418T235013
CREATED:20250910T090119Z
LAST-MODIFIED:20260209T103956Z
UID:10003268-1772564400-1772569800@t-huis.info
SUMMARY:YOGA
DESCRIPTION:Yoga met Denise | Volwassenen | 19:00 – 20:30 @T-HUIS
URL:https://t-huis.info/event/vrije-inloop-3-2/2026-03-03/
LOCATION:T-HUIS\, Hemelrijken 106
ATTACH;FMTTYPE=image/png:https://t-huis.info/wp-content/uploads/2025/06/THUIS_Iconen7.png
END:VEVENT
END:VCALENDAR