BEGIN:VCALENDAR
VERSION:2.0
PRODID:-//T+Huis Eindhoven - ECPv6.15.20//NONSGML v1.0//EN
CALSCALE:GREGORIAN
METHOD:PUBLISH
X-ORIGINAL-URL:https://t-huis.info
X-WR-CALDESC:Evenementen voor T+Huis Eindhoven
REFRESH-INTERVAL;VALUE=DURATION:PT1H
X-Robots-Tag:noindex
X-PUBLISHED-TTL:PT1H
BEGIN:VTIMEZONE
TZID:Europe/Paris
BEGIN:DAYLIGHT
TZOFFSETFROM:+0100
TZOFFSETTO:+0200
TZNAME:CEST
DTSTART:20240331T010000
END:DAYLIGHT
BEGIN:STANDARD
TZOFFSETFROM:+0200
TZOFFSETTO:+0100
TZNAME:CET
DTSTART:20241027T010000
END:STANDARD
BEGIN:DAYLIGHT
TZOFFSETFROM:+0100
TZOFFSETTO:+0200
TZNAME:CEST
DTSTART:20250330T010000
END:DAYLIGHT
BEGIN:STANDARD
TZOFFSETFROM:+0200
TZOFFSETTO:+0100
TZNAME:CET
DTSTART:20251026T010000
END:STANDARD
BEGIN:DAYLIGHT
TZOFFSETFROM:+0100
TZOFFSETTO:+0200
TZNAME:CEST
DTSTART:20260329T010000
END:DAYLIGHT
BEGIN:STANDARD
TZOFFSETFROM:+0200
TZOFFSETTO:+0100
TZNAME:CET
DTSTART:20261025T010000
END:STANDARD
END:VTIMEZONE
BEGIN:VEVENT
DTSTART;TZID=Europe/Paris:20251230T144500
DTEND;TZID=Europe/Paris:20251230T161500
DTSTAMP:20260420T144954
CREATED:20250820T100940Z
LAST-MODIFIED:20260209T104136Z
UID:10000704-1767105900-1767111300@t-huis.info
SUMMARY:KOOK-CLUB
DESCRIPTION:Samen koken & eten | Kinderen 6+ | 14:45 – 16:15 @T-HUIS
URL:https://t-huis.info/event/kook-club/2025-12-30/
LOCATION:T-HUIS\, Hemelrijken 106
ATTACH;FMTTYPE=image/png:https://t-huis.info/wp-content/uploads/2025/06/THUIS_Iconen3.png
END:VEVENT
BEGIN:VEVENT
DTSTART;TZID=Europe/Paris:20251230T190000
DTEND;TZID=Europe/Paris:20251230T203000
DTSTAMP:20260420T144954
CREATED:20250910T090119Z
LAST-MODIFIED:20260209T103956Z
UID:10003259-1767121200-1767126600@t-huis.info
SUMMARY:YOGA
DESCRIPTION:Yoga met Denise | Volwassenen | 19:00 – 20:30 @T-HUIS
URL:https://t-huis.info/event/vrije-inloop-3-2/2025-12-30/
LOCATION:T-HUIS\, Hemelrijken 106
ATTACH;FMTTYPE=image/png:https://t-huis.info/wp-content/uploads/2025/06/THUIS_Iconen7.png
END:VEVENT
END:VCALENDAR