BEGIN:VCALENDAR
VERSION:2.0
PRODID:-//T+Huis Eindhoven - ECPv6.15.20//NONSGML v1.0//EN
CALSCALE:GREGORIAN
METHOD:PUBLISH
X-ORIGINAL-URL:https://t-huis.info
X-WR-CALDESC:Evenementen voor T+Huis Eindhoven
REFRESH-INTERVAL;VALUE=DURATION:PT1H
X-Robots-Tag:noindex
X-PUBLISHED-TTL:PT1H
BEGIN:VTIMEZONE
TZID:Europe/Paris
BEGIN:DAYLIGHT
TZOFFSETFROM:+0100
TZOFFSETTO:+0200
TZNAME:CEST
DTSTART:20240331T010000
END:DAYLIGHT
BEGIN:STANDARD
TZOFFSETFROM:+0200
TZOFFSETTO:+0100
TZNAME:CET
DTSTART:20241027T010000
END:STANDARD
BEGIN:DAYLIGHT
TZOFFSETFROM:+0100
TZOFFSETTO:+0200
TZNAME:CEST
DTSTART:20250330T010000
END:DAYLIGHT
BEGIN:STANDARD
TZOFFSETFROM:+0200
TZOFFSETTO:+0100
TZNAME:CET
DTSTART:20251026T010000
END:STANDARD
BEGIN:DAYLIGHT
TZOFFSETFROM:+0100
TZOFFSETTO:+0200
TZNAME:CEST
DTSTART:20260329T010000
END:DAYLIGHT
BEGIN:STANDARD
TZOFFSETFROM:+0200
TZOFFSETTO:+0100
TZNAME:CET
DTSTART:20261025T010000
END:STANDARD
END:VTIMEZONE
BEGIN:VEVENT
DTSTART;TZID=Europe/Paris:20251201T150000
DTEND;TZID=Europe/Paris:20251201T160000
DTSTAMP:20260420T161707
CREATED:20251007T073843Z
LAST-MODIFIED:20251007T073933Z
UID:10004606-1764601200-1764604800@t-huis.info
SUMMARY:LEES-MAATJES
DESCRIPTION:Voorlezen bij gezinnen thuis | Kinderen 4-8 jaar | op afspraak
URL:https://t-huis.info/event/lees-maatjes/2025-12-01/
LOCATION:Gymzaal Basisschool Fellenoord\, Hemelrijken 310\, Eindhoven\, 5612WS
ATTACH;FMTTYPE=image/png:https://t-huis.info/wp-content/uploads/2025/06/THUIS_Iconen.png
END:VEVENT
BEGIN:VEVENT
DTSTART;TZID=Europe/Paris:20251201T150000
DTEND;TZID=Europe/Paris:20251201T170000
DTSTAMP:20260420T161707
CREATED:20250820T103003Z
LAST-MODIFIED:20260209T104239Z
UID:10001221-1764601200-1764608400@t-huis.info
SUMMARY:1-1 BEGELEIDING
DESCRIPTION:Taal – rekenen – huiswerk | Groep 3-8 (op inschrijving) | 15:00 – 17:00 @T-HUIS
URL:https://t-huis.info/event/1-1-begeleiding/2025-12-01/
LOCATION:T-HUIS\, Hemelrijken 106
ATTACH;FMTTYPE=image/png:https://t-huis.info/wp-content/uploads/2025/06/THUIS_Iconen9.png
END:VEVENT
BEGIN:VEVENT
DTSTART;TZID=Europe/Paris:20251201T150000
DTEND;TZID=Europe/Paris:20251201T170000
DTSTAMP:20260420T161707
CREATED:20250929T151144Z
LAST-MODIFIED:20260209T104204Z
UID:10004048-1764601200-1764608400@t-huis.info
SUMMARY:DANSLESSEN
DESCRIPTION:Dynamo Jeugdwerk | Tieners 10-14 jaar | 17:00 – 18:00 @gymzaal
URL:https://t-huis.info/event/danslessen/2025-12-01/
LOCATION:Gymzaal Basisschool Fellenoord\, Hemelrijken 310\, Eindhoven\, 5612WS
ATTACH;FMTTYPE=image/png:https://t-huis.info/wp-content/uploads/2025/06/THUIS_Iconen11.png
END:VEVENT
BEGIN:VEVENT
DTSTART;TZID=Europe/Paris:20251201T193000
DTEND;TZID=Europe/Paris:20251201T203000
DTSTAMP:20260420T161707
CREATED:20250910T084107Z
LAST-MODIFIED:20260209T104037Z
UID:10002794-1764617400-1764621000@t-huis.info
SUMMARY:FIT & VROUW
DESCRIPTION:Sporten met Aya | Vrouwen/ meiden 16+ | 19:30 – 20:30 @gymzaal
URL:https://t-huis.info/event/fit-vrouw/2025-12-01/
LOCATION:Gymzaal Basisschool Fellenoord\, Hemelrijken 310\, Eindhoven\, 5612WS
ATTACH;FMTTYPE=image/png:https://t-huis.info/wp-content/uploads/2025/06/THUIS_Iconen11.png
END:VEVENT
END:VCALENDAR