BEGIN:VCALENDAR
VERSION:2.0
PRODID:-//T+Huis Eindhoven - ECPv6.15.20//NONSGML v1.0//EN
CALSCALE:GREGORIAN
METHOD:PUBLISH
X-WR-CALNAME:T+Huis Eindhoven
X-ORIGINAL-URL:https://t-huis.info
X-WR-CALDESC:Evenementen voor T+Huis Eindhoven
REFRESH-INTERVAL;VALUE=DURATION:PT1H
X-Robots-Tag:noindex
X-PUBLISHED-TTL:PT1H
BEGIN:VTIMEZONE
TZID:Europe/Paris
BEGIN:DAYLIGHT
TZOFFSETFROM:+0100
TZOFFSETTO:+0200
TZNAME:CEST
DTSTART:20240331T010000
END:DAYLIGHT
BEGIN:STANDARD
TZOFFSETFROM:+0200
TZOFFSETTO:+0100
TZNAME:CET
DTSTART:20241027T010000
END:STANDARD
BEGIN:DAYLIGHT
TZOFFSETFROM:+0100
TZOFFSETTO:+0200
TZNAME:CEST
DTSTART:20250330T010000
END:DAYLIGHT
BEGIN:STANDARD
TZOFFSETFROM:+0200
TZOFFSETTO:+0100
TZNAME:CET
DTSTART:20251026T010000
END:STANDARD
BEGIN:DAYLIGHT
TZOFFSETFROM:+0100
TZOFFSETTO:+0200
TZNAME:CEST
DTSTART:20260329T010000
END:DAYLIGHT
BEGIN:STANDARD
TZOFFSETFROM:+0200
TZOFFSETTO:+0100
TZNAME:CET
DTSTART:20261025T010000
END:STANDARD
END:VTIMEZONE
BEGIN:VEVENT
DTSTART;TZID=Europe/Paris:20251029T123000
DTEND;TZID=Europe/Paris:20251029T134500
DTSTAMP:20260421T003648
CREATED:20250820T094624Z
LAST-MODIFIED:20260209T104526Z
UID:10001477-1761741000-1761745500@t-huis.info
SUMMARY:CLUB VAN GENT
DESCRIPTION:Voetballen met Dori | Groep 5-8 | 12:30 – 13:45 @van Gentplein
URL:https://t-huis.info/event/club-van-gent/2025-10-29/
LOCATION:T-HUIS\, Hemelrijken 106
ATTACH;FMTTYPE=image/png:https://t-huis.info/wp-content/uploads/2025/06/THUIS_Iconen15.png
END:VEVENT
BEGIN:VEVENT
DTSTART;TZID=Europe/Paris:20251029T123000
DTEND;TZID=Europe/Paris:20251029T140000
DTSTAMP:20260421T003648
CREATED:20250820T104601Z
LAST-MODIFIED:20260209T104109Z
UID:10002258-1761741000-1761746400@t-huis.info
SUMMARY:VRIJE MIDDAG
DESCRIPTION:Spelletjes & kletsen | Kinderen 6+ | 12:30 – 14:30 @T-HUIS
URL:https://t-huis.info/event/vrije-inloop-2/2025-10-29/
ATTACH;FMTTYPE=image/png:https://t-huis.info/wp-content/uploads/2025/06/THUIS_Iconen7.png
END:VEVENT
BEGIN:VEVENT
DTSTART;TZID=Europe/Paris:20251029T133000
DTEND;TZID=Europe/Paris:20251029T150000
DTSTAMP:20260421T003648
CREATED:20250901T113728Z
LAST-MODIFIED:20260303T142611Z
UID:10006373-1761744600-1761750000@t-huis.info
SUMMARY:CREA-FEEST
DESCRIPTION:Ouder + kind activiteiten | Ouders en kinderen (0-6) | 13:30 – 15:00 @T-HUIS
URL:https://t-huis.info/event/creafeest-3/2025-10-29/
ATTACH;FMTTYPE=image/png:https://t-huis.info/wp-content/uploads/2025/06/THUIS_Iconen7.png
END:VEVENT
BEGIN:VEVENT
DTSTART;TZID=Europe/Paris:20251029T150000
DTEND;TZID=Europe/Paris:20251029T160000
DTSTAMP:20260421T003648
CREATED:20250910T085819Z
LAST-MODIFIED:20260209T145008Z
UID:10003512-1761750000-1761753600@t-huis.info
SUMMARY:ZAALVOETBAL
DESCRIPTION:Zaalvoetbal met Dori | Kinderen 8+ | 15:00 – 16:15 @gymzaal
URL:https://t-huis.info/event/zaalvoetbal/2025-10-29/
LOCATION:Gymzaal Basisschool Fellenoord\, Hemelrijken 310\, Eindhoven\, 5612WS
ATTACH;FMTTYPE=image/png:https://t-huis.info/wp-content/uploads/2025/06/THUIS_Iconen7.png
END:VEVENT
END:VCALENDAR