BEGIN:VCALENDAR
VERSION:2.0
PRODID:-//T+Huis Eindhoven - ECPv6.15.20//NONSGML v1.0//EN
CALSCALE:GREGORIAN
METHOD:PUBLISH
X-WR-CALNAME:T+Huis Eindhoven
X-ORIGINAL-URL:https://t-huis.info
X-WR-CALDESC:Evenementen voor T+Huis Eindhoven
REFRESH-INTERVAL;VALUE=DURATION:PT1H
X-Robots-Tag:noindex
X-PUBLISHED-TTL:PT1H
BEGIN:VTIMEZONE
TZID:Europe/Paris
BEGIN:DAYLIGHT
TZOFFSETFROM:+0100
TZOFFSETTO:+0200
TZNAME:CEST
DTSTART:20250330T010000
END:DAYLIGHT
BEGIN:STANDARD
TZOFFSETFROM:+0200
TZOFFSETTO:+0100
TZNAME:CET
DTSTART:20251026T010000
END:STANDARD
BEGIN:DAYLIGHT
TZOFFSETFROM:+0100
TZOFFSETTO:+0200
TZNAME:CEST
DTSTART:20260329T010000
END:DAYLIGHT
BEGIN:STANDARD
TZOFFSETFROM:+0200
TZOFFSETTO:+0100
TZNAME:CET
DTSTART:20261025T010000
END:STANDARD
BEGIN:DAYLIGHT
TZOFFSETFROM:+0100
TZOFFSETTO:+0200
TZNAME:CEST
DTSTART:20270328T010000
END:DAYLIGHT
BEGIN:STANDARD
TZOFFSETFROM:+0200
TZOFFSETTO:+0100
TZNAME:CET
DTSTART:20271031T010000
END:STANDARD
END:VTIMEZONE
BEGIN:VEVENT
DTSTART;TZID=Europe/Paris:20260126T150000
DTEND;TZID=Europe/Paris:20260126T170000
DTSTAMP:20260419T191144
CREATED:20250929T151144Z
LAST-MODIFIED:20260209T104204Z
UID:10004056-1769439600-1769446800@t-huis.info
SUMMARY:DANSLESSEN
DESCRIPTION:Dynamo Jeugdwerk | Tieners 10-14 jaar | 17:00 – 18:00 @gymzaal
URL:https://t-huis.info/event/danslessen/2026-01-26/
LOCATION:Gymzaal Basisschool Fellenoord\, Hemelrijken 310\, Eindhoven\, 5612WS
ATTACH;FMTTYPE=image/png:https://t-huis.info/wp-content/uploads/2025/06/THUIS_Iconen11.png
END:VEVENT
END:VCALENDAR